BEGIN:VCALENDAR
PRODID:NingEventWidget-v1
VERSION:2.0
METHOD:PUBLISH
BEGIN:VTIMEZONE
TZID:America/Boise
X-LIC-LOCATION:America/Boise
BEGIN:DAYLIGHT
TZOFFSETFROM:-0700
TZOFFSETTO:-0600
TZNAME:MDT
DTSTART:19700308T020000
RRULE:FREQ=YEARLY;BYMONTH=3;BYDAY=2SU
END:DAYLIGHT
BEGIN:STANDARD
TZOFFSETFROM:-0600
TZOFFSETTO:-0700
TZNAME:MST
DTSTART:19701101T020000
RRULE:FREQ=YEARLY;BYMONTH=11;BYDAY=1SU
END:STANDARD
END:VTIMEZONE
BEGIN:VEVENT
UID:2985220:Event:977000
DTSTAMP:20260423T230917Z
SUMMARY:Rhino & Grasshopper Beginner-advanced course Cairo, Egypt
DESCRIPTION:be one of the best,\nhave a concept and define it 100% usi
 ng Grasshopper,\ndon't worry about the tangible final outcome of your 
 concept,\nand, or model the design you have using Rhino.\n\nFor more i
 nformation visit https://www.grasshopper3d.com/events/rhino-grasshoppe
 r-beginner-advanced-course-cairo-egypt-1
DTSTART;TZID=America/Boise:20140101T000000
DTEND;TZID=America/Boise:20140107T235900
CATEGORIES:rhino, "&", grasshopper, beginner-advanced, course, cairo, 
 egypt
LOCATION:Nasser City, Cairo, egypt
WEBSITE:http://www.me-archs.com
URL:http://www.me-archs.com
CONTACT:+2 01005026854
ORGANIZER;CN="Mohammed Ezzat":https://www.grasshopper3d.com/profile/Mo
 hammedEzzat
ATTACH;FMTTYPE="image/jpeg":http://storage.ning.com/topology/rest/1.0/
 file/get/2828432438?profile=original
ATTENDEE;ROLE=REQ-PARTICIPANT;PARTSTAT=ACCEPTED;RSVP=TRUE;CN="Zaher Ra
 madan  Hussein":https://www.grasshopper3d.com/profile/ZaherRamadanHuss
 ein
ATTENDEE;ROLE=REQ-PARTICIPANT;PARTSTAT=ACCEPTED;RSVP=TRUE;CN="Mohammed
  Ezzat":https://www.grasshopper3d.com/profile/MohammedEzzat
END:VEVENT
END:VCALENDAR
