BEGIN:VCALENDAR
PRODID:NingEventWidget-v1
VERSION:2.0
METHOD:PUBLISH
BEGIN:VTIMEZONE
TZID:America/Boise
X-LIC-LOCATION:America/Boise
BEGIN:DAYLIGHT
TZOFFSETFROM:-0700
TZOFFSETTO:-0600
TZNAME:MDT
DTSTART:19700308T020000
RRULE:FREQ=YEARLY;BYMONTH=3;BYDAY=2SU
END:DAYLIGHT
BEGIN:STANDARD
TZOFFSETFROM:-0600
TZOFFSETTO:-0700
TZNAME:MST
DTSTART:19701101T020000
RRULE:FREQ=YEARLY;BYMONTH=11;BYDAY=1SU
END:STANDARD
END:VTIMEZONE
BEGIN:VEVENT
UID:2985220:Event:611809
DTSTAMP:20260423T223958Z
SUMMARY:rhino و grasshopper برگزاری کلاسهای
DESCRIPTION:با سلام به استحضار می رساند چهار
 مین دوره کلاسها و کارگاههای آموزشیgrassho
 pper و rhinoبا هدف ارتقای دانش و مهارتهای ع
 می و فنی ازابتدای تیر ماه 1391 آغاز می شو
 د.از علاقه مندان برای شرکت در کلاسها و 
 ارگاهها دعوت می شود email: behrange@gmail.com از ط
 ریق و یا شماره تماس 09197804306 جهت ثبت نام ت
 ماس حاصل نمایند\nجهت شرکت در کلاسهای فو
 ق مبلغ 3500000 ریال به شماره حساب0215461257000 ب
 نک ملی ایران واریزنمودهو فیش واریزی ر
  به همراه کپی کارت ملی تحویل دهیدمحل ب
 گزاری کلاسها : تهران خیابان پاسداران خ
 یابان بهستان سوم پلاک 9\n\nFor more information visi
 t https://www.grasshopper3d.com/events/rhino-grasshopper-1
DTSTART;TZID=America/Boise:20120622T100000
DTEND;TZID=America/Boise:20120831T000000
CATEGORIES:tutorial, classes
LOCATION:تهران خیابان پاسداران خیابان بهس
 ان سوم پلاک 9
WEBSITE:http://bestudio.webs.com
URL:http://bestudio.webs.com
CONTACT:09197804306
ORGANIZER;CN="Dr Behrang Eghbali":https://www.grasshopper3d.com/profil
 e/behrangeghbali
ATTACH;FMTTYPE="image/jpeg":http://storage.ning.com/topology/rest/1.0/
 file/get/2828026876?profile=original
ATTENDEE;ROLE=REQ-PARTICIPANT;PARTSTAT=ACCEPTED;RSVP=TRUE;CN="Dr Behra
 ng Eghbali":https://www.grasshopper3d.com/profile/behrangeghbali
END:VEVENT
END:VCALENDAR
