BEGIN:VCALENDAR
PRODID:NingEventWidget-v1
VERSION:2.0
METHOD:PUBLISH
BEGIN:VTIMEZONE
TZID:America/Boise
X-LIC-LOCATION:America/Boise
BEGIN:DAYLIGHT
TZOFFSETFROM:-0700
TZOFFSETTO:-0600
TZNAME:MDT
DTSTART:19700308T020000
RRULE:FREQ=YEARLY;BYMONTH=3;BYDAY=2SU
END:DAYLIGHT
BEGIN:STANDARD
TZOFFSETFROM:-0600
TZOFFSETTO:-0700
TZNAME:MST
DTSTART:19701101T020000
RRULE:FREQ=YEARLY;BYMONTH=11;BYDAY=1SU
END:STANDARD
END:VTIMEZONE
BEGIN:VEVENT
UID:2985220:Event:2079152
DTSTAMP:20260422T104745Z
SUMMARY:Rhino Design entre semana
DESCRIPTION:Los ejercicios a desarrollar están enfocados tanto a prof
 esionales como estudiantes de diseño, ingeniería, arquitectura...\nD
 uración: 36 horas entre semana. \n\nPRIMERA PARTE del CURSO:\nEl alu
 mno aprenderá a levantar modelos 3D desde geometrías sencillas a do
 blemente curvadas y pondrá en práctica distintas estrategias para l
 a obtención de estructuras de modelos complejos como los acostumbr
 ados a ver en las revistas especializadas de diseño y arquitectura.\n
 \nSEGUNDA PARTE del CURSO:\nRenderizado fotorrealístico con VRay. Co
 ntrol sobre materiales, cámaras, motores de render, fondos, iluminaci
 ón, etc.\n\nTERCERA PARTE del CURSO:\nSe completa el curso con la rea
 lización  de un PROYECTO PERSONAL que puede constar de el modelado d
 e un panel constructivo, un PROTOTIPO ARQUITECTÓNICO o un elemento de
  diseño y su fabricación gracias a las máquinas de control numé
 rico como nuestra fresadora de gran formato, impresoras 3D o láser.\n
 \nFor more information visit https://www.grasshopper3d.com/events/rhin
 o-design-entre-semana
DTSTART;TZID=America/Boise:20200831T000000
DTEND;TZID=America/Boise:20200904T235900
CATEGORIES:rhino, design, workshop
LOCATION:Controlmad
WEBSITE:https://www.controlmad.com/formacion/rhino-design
URL:https://www.controlmad.com/formacion/rhino-design
CONTACT:915393366
ORGANIZER:Controlmad
ATTACH;FMTTYPE="image/jpeg":https://storage.ning.com/topology/rest/1.0
 /file/get/3829844490?profile=original
ATTENDEE;ROLE=REQ-PARTICIPANT;PARTSTAT=ACCEPTED;RSVP=TRUE;CN="Diego Cu
 evas":https://www.grasshopper3d.com/profile/DiegoCuevas
END:VEVENT
END:VCALENDAR
