BEGIN:VCALENDAR
PRODID:NingEventWidget-v1
VERSION:2.0
METHOD:PUBLISH
BEGIN:VTIMEZONE
TZID:America/Boise
X-LIC-LOCATION:America/Boise
BEGIN:DAYLIGHT
TZOFFSETFROM:-0700
TZOFFSETTO:-0600
TZNAME:MDT
DTSTART:19700308T020000
RRULE:FREQ=YEARLY;BYMONTH=3;BYDAY=2SU
END:DAYLIGHT
BEGIN:STANDARD
TZOFFSETFROM:-0600
TZOFFSETTO:-0700
TZNAME:MST
DTSTART:19701101T020000
RRULE:FREQ=YEARLY;BYMONTH=11;BYDAY=1SU
END:STANDARD
END:VTIMEZONE
BEGIN:VEVENT
UID:2985220:Event:1020462
DTSTAMP:20260423T085953Z
SUMMARY:Responsive Skins Workshop
DESCRIPTION:Parametric Design Workshop.Check out\nhttp://www.d-nat.net
 /responsive-skins.html\nor email: contact@d-nat.net for details\n\n\nF
 or more information visit https://www.grasshopper3d.com/events/respons
 ive-skins-workshop
DTSTART;TZID=America/Boise:20140402T090000
DTEND;TZID=America/Boise:20140406T180000
CATEGORIES:workshop
LOCATION:Al Majara, Dubai Marina, Dubai
WEBSITE:
URL:
CONTACT:
ORGANIZER:Zayad Motlib and Andrea Graziano
ATTACH;FMTTYPE="image/jpeg":http://storage.ning.com/topology/rest/1.0/
 file/get/2828490488?profile=original
ATTENDEE;ROLE=REQ-PARTICIPANT;PARTSTAT=ACCEPTED;RSVP=TRUE;CN="Zayad Mo
 tlib":https://www.grasshopper3d.com/profile/ZayadMotlib
END:VEVENT
END:VCALENDAR
