BEGIN:VCALENDAR
PRODID:NingEventWidget-v1
VERSION:2.0
METHOD:PUBLISH
BEGIN:VTIMEZONE
TZID:America/Boise
X-LIC-LOCATION:America/Boise
BEGIN:DAYLIGHT
TZOFFSETFROM:-0700
TZOFFSETTO:-0600
TZNAME:MDT
DTSTART:19700308T020000
RRULE:FREQ=YEARLY;BYMONTH=3;BYDAY=2SU
END:DAYLIGHT
BEGIN:STANDARD
TZOFFSETFROM:-0600
TZOFFSETTO:-0700
TZNAME:MST
DTSTART:19701101T020000
RRULE:FREQ=YEARLY;BYMONTH=11;BYDAY=1SU
END:STANDARD
END:VTIMEZONE
BEGIN:VEVENT
UID:2985220:Event:1465937
DTSTAMP:20260423T230304Z
SUMMARY:RESPONSIVE _DESIGN Parametric, Algorithmic & Kinetic Workshop
DESCRIPTION:RESPONSIVE _DESIGN Parametric, Algorithmic & Kinetic Works
 hop Phase one: Parametric Algorithmic Designtime: 26, 27, 28 February
  2016Phase two: Kinetic responsive designtime: 04,05,06 March 2016to r
 egister, please contact Miss Roula Homsi Tel: 06/218400 ext:4007email
 : r.homsi@bau.edu.lbTOPICS: Parametric design , Algorithms, Kinetic Ar
 chitecture, responsive facades, interactive design, smart buildings, g
 enerative design, NURBS modeling, parametric modeling, architectural d
 esign algorithms, form finding algorithms , and Environmental Adaptive
  Dynamic ArchitectureComputational skills: Rhino3D – Grasshopper 3d 
 – Paneling tools - Kangaroo plugin - fields grasshopper -Digital Fab
 rication- Arduino micro controllers - lighting and temperature sensors
  - Firefly plugin - gHowl – mobile controller - Wi-Fi controllersWOR
 KSHOP PROGRAM: PHASE ONE: Day 01- opening lecture on Algorithmic Add
 ed Design - tutorials and introductions to NURBS modeling with Rhino 
 3d- Parametric modeling tutorials with grasshopper 3d- Grasshopper pro
 cesses, algorithmic logic and data management-Essential mathematical f
 unctions and logical operations- Projects assignments, groups division
 s, project phase’s scheduleDay 02 - Form finding methods and theorie
 s for architecture - Training on physical algorithms using Kangaroo p
 lugin-Catenary systems on curves, Catenary on surfaces, and mesh relax
 ation- Algorithms and design inspirations- Subdivision algorithms, pan
 eling tools- Responsive materials, structural optimizations- Project p
 hase one submissionDay 03- Envelope pattern optimizations for natural 
 lighting- Kinetic Architecture introduction and projects examples- Res
 ponsive material analysis and design systems- Kinetic facades and dyna
 mic pattern - Training on Arduino & preparing digital models for kine
 tic simulationPHASE TWODay 04- environmental Sensors, design reaction-
  lighting sensors, temperature sensors-Responsive envelop responsive s
 imulations to sensors.-Smart and embedded systems for Architecture- Ar
 chitectural models movements and mechanisms Day 05- Wireless controll
 ers for grasshopper- Mobile controllers - Projects final submissionDa
 y 06 -Finalizing students projects,-Models fabrications and sensors in
 stallations, documenting reactions-Final project ourcomesFEES for the
  2 phases __ fees is 420 $ per participants( 360 for BAU students) Fe
 es includes all teaching materials, software kit, lectures kit, laser 
 cutting, Arduino microcontroller boards, sensors and using equipment. 
 Students need to bring their own laptops, digital equipment and model 
 making tools.PREREQUESTSThis program is open to current international 
 Engineering, architecture and design students, masters, PhD candidates
  and young architects and professionals. Software Requirements: basic 
 knowledge of 2D and 3D modeling software.\n\nFor more information visi
 t https://www.grasshopper3d.com/events/responsive-design-parametric-al
 gorithmic-kinetic-workshop
DTSTART;TZID=America/Boise:20160226T090000
DTEND;TZID=America/Boise:20160306T180000
CATEGORIES:workshop, parametric, responsive, design, training, kinetic
LOCATION:Beirut Arab University - Tripoli - Lebanon
WEBSITE:https://www.facebook.com/events/1094214760602376/
URL:https://www.facebook.com/events/1094214760602376/
CONTACT:
ORGANIZER;CN="Mostafa R. A. Khalifa":https://www.grasshopper3d.com/pro
 file/MostafaKhalifa
ATTACH;FMTTYPE="image/jpeg":http://storage.ning.com/topology/rest/1.0/
 file/get/2829250110?profile=original
ATTENDEE;ROLE=REQ-PARTICIPANT;PARTSTAT=ACCEPTED;RSVP=TRUE;CN="Mostafa 
 R. A. Khalifa":https://www.grasshopper3d.com/profile/MostafaKhalifa
END:VEVENT
END:VCALENDAR
