BEGIN:VCALENDAR
PRODID:NingEventWidget-v1
VERSION:2.0
METHOD:PUBLISH
BEGIN:VTIMEZONE
TZID:America/Boise
X-LIC-LOCATION:America/Boise
BEGIN:DAYLIGHT
TZOFFSETFROM:-0700
TZOFFSETTO:-0600
TZNAME:MDT
DTSTART:19700308T020000
RRULE:FREQ=YEARLY;BYMONTH=3;BYDAY=2SU
END:DAYLIGHT
BEGIN:STANDARD
TZOFFSETFROM:-0600
TZOFFSETTO:-0700
TZNAME:MST
DTSTART:19701101T020000
RRULE:FREQ=YEARLY;BYMONTH=11;BYDAY=1SU
END:STANDARD
END:VTIMEZONE
BEGIN:VEVENT
UID:2985220:Event:1474410
DTSTAMP:20260424T195034Z
SUMMARY:RESHAPE /// META MASK
DESCRIPTION:Introduction\nSince the early years of civilization masks 
 in various forms have played a crucial role in the understanding of wh
 at it means to be a human. They permit imaginative experiences of what
  it is like to be transformed into a different identity. With the use 
 of new technology we want to further pursue this metamorphosis.\n\n\nB
 rief\nWe will create a digital version of a “life mask” and use ou
 r own faces as inputs to generate a new identity. A Generative Code wi
 ll enable us to transform and apply shapes with the original data. Use
  of Rhino 3D + Grasshopper will let us create unique adaptive designs 
 based on a 3D scan. 3D Printing is a technology that perfectly suits t
 he purpose to create one-of-a-kind customised objects.\n\n\n\nFor more
  information visit https://www.grasshopper3d.com/events/reshape-meta-m
 ask
DTSTART;TZID=America/Boise:20160317T100000
DTEND;TZID=America/Boise:20160320T180000
CATEGORIES:workshop
LOCATION:Tropos Laboratory
WEBSITE:http://www.youreshape.com/metamaskws/
URL:http://www.youreshape.com/metamaskws/
CONTACT:
ORGANIZER:noumena // reshape // tropos
ATTACH;FMTTYPE="image/jpeg":http://storage.ning.com/topology/rest/1.0/
 file/get/2829265873?profile=original
ATTENDEE;ROLE=REQ-PARTICIPANT;PARTSTAT=ACCEPTED;RSVP=TRUE;CN="Aldo Sol
 lazzo":https://www.grasshopper3d.com/profile/aldosollazzo
END:VEVENT
END:VCALENDAR
