BEGIN:VCALENDAR
PRODID:NingEventWidget-v1
VERSION:2.0
METHOD:PUBLISH
BEGIN:VTIMEZONE
TZID:America/Boise
X-LIC-LOCATION:America/Boise
BEGIN:DAYLIGHT
TZOFFSETFROM:-0700
TZOFFSETTO:-0600
TZNAME:MDT
DTSTART:19700308T020000
RRULE:FREQ=YEARLY;BYMONTH=3;BYDAY=2SU
END:DAYLIGHT
BEGIN:STANDARD
TZOFFSETFROM:-0600
TZOFFSETTO:-0700
TZNAME:MST
DTSTART:19701101T020000
RRULE:FREQ=YEARLY;BYMONTH=11;BYDAY=1SU
END:STANDARD
END:VTIMEZONE
BEGIN:VEVENT
UID:2985220:Event:1245702
DTSTAMP:20260422T193204Z
SUMMARY:Reshape 15 | wearable technology competition
DESCRIPTION:Today, disciplines as programming and electronics become h
 ighly transversal, blurring old boundaries and merging different field
 s of knowledge. Fashion has been already highly affected by this radic
 al change. Therefore, clothes, shoes and other accessories can now inc
 orporate elements of hardware and software, generating a peculiar mix 
 between fashion and computation that is incredibly fertile and inspiri
 ng. Data becomes Beauty, Interaction becomes Emotion. As a result, a n
 ew esthetic is emerging. Reshape focuses on the definition of this lan
 guage, proposing a new challenge to makers and designers: RESHAPE15 | 
 wearable technology competition.\n\nFor more information visit https:/
 /www.grasshopper3d.com/events/reshape-15-wearable-technology-competiti
 on
DTSTART;TZID=America/Boise:20150319T180000
DTEND;TZID=America/Boise:20150531T190000
CATEGORIES:competition
LOCATION:the network
WEBSITE:http://www.youreshape.com/
URL:http://www.youreshape.com/
CONTACT:
ORGANIZER:noumena
ATTACH;FMTTYPE="image/jpeg":http://storage.ning.com/topology/rest/1.0/
 file/get/2828872494?profile=original
ATTENDEE;ROLE=REQ-PARTICIPANT;PARTSTAT=ACCEPTED;RSVP=TRUE;CN="Aldo Sol
 lazzo":https://www.grasshopper3d.com/profile/aldosollazzo
END:VEVENT
END:VCALENDAR
