BEGIN:VCALENDAR
PRODID:NingEventWidget-v1
VERSION:2.0
METHOD:PUBLISH
BEGIN:VTIMEZONE
TZID:America/Boise
X-LIC-LOCATION:America/Boise
BEGIN:DAYLIGHT
TZOFFSETFROM:-0700
TZOFFSETTO:-0600
TZNAME:MDT
DTSTART:19700308T020000
RRULE:FREQ=YEARLY;BYMONTH=3;BYDAY=2SU
END:DAYLIGHT
BEGIN:STANDARD
TZOFFSETFROM:-0600
TZOFFSETTO:-0700
TZNAME:MST
DTSTART:19701101T020000
RRULE:FREQ=YEARLY;BYMONTH=11;BYDAY=1SU
END:STANDARD
END:VTIMEZONE
BEGIN:VEVENT
UID:2985220:Event:1365621
DTSTAMP:20260423T180113Z
SUMMARY:Reparameterized-05
DESCRIPTION:A new Grasshopper Beginners Workshop -Dubai. Spend a weeke
 nd with us and enter the world of Parametric Design by learning Parame
 tric Design Techniques with Grasshopper.For details and registration c
 heck out: http://www.d-nat.net/reparameterized-05/ or email: contact
 @d-nat.net The workshop will also prepare you for the entry level of 
 the intermediate / advanced workshop which is taking place on Oct 14-1
 7. Details will be announced soon.\n\nFor more information visit https
 ://www.grasshopper3d.com/events/reparameterized-05
DTSTART;TZID=America/Boise:20151002T090000
DTEND;TZID=America/Boise:20151003T190000
CATEGORIES:grasshopper, beginners, workshop
LOCATION:Dubai Knowledge Village
WEBSITE:http://www.d-nat.net/reparameterized-05
URL:http://www.d-nat.net/reparameterized-05
CONTACT:
ORGANIZER:d-NAT (Dubai Network for Art, Architecture, and Technology)
ATTACH;FMTTYPE="image/jpeg":http://storage.ning.com/topology/rest/1.0/
 file/get/2829068608?profile=original
ATTENDEE;ROLE=REQ-PARTICIPANT;PARTSTAT=ACCEPTED;RSVP=TRUE;CN="Zayad Mo
 tlib":https://www.grasshopper3d.com/profile/ZayadMotlib
END:VEVENT
END:VCALENDAR
