BEGIN:VCALENDAR
PRODID:NingEventWidget-v1
VERSION:2.0
METHOD:PUBLISH
BEGIN:VTIMEZONE
TZID:America/Boise
X-LIC-LOCATION:America/Boise
BEGIN:DAYLIGHT
TZOFFSETFROM:-0700
TZOFFSETTO:-0600
TZNAME:MDT
DTSTART:19700308T020000
RRULE:FREQ=YEARLY;BYMONTH=3;BYDAY=2SU
END:DAYLIGHT
BEGIN:STANDARD
TZOFFSETFROM:-0600
TZOFFSETTO:-0700
TZNAME:MST
DTSTART:19701101T020000
RRULE:FREQ=YEARLY;BYMONTH=11;BYDAY=1SU
END:STANDARD
END:VTIMEZONE
BEGIN:VEVENT
UID:2985220:Event:1195266
DTSTAMP:20260421T070639Z
SUMMARY:Reparameterized 0.3
DESCRIPTION:A new Grasshopper Beginners Workshop-Dubai. Your entry int
 o the world of Parametric Design.Spend a weekend with us and learn Par
 ametric Design Techniques with grasshopper. The workshop will also pre
 pare you for the entry level of the intermediate / advanced workshop I
 nFORMed Verticality which is running between Jan30-Feb3. For details c
 heck out: http://www.d-nat.net/reparameterized-03/ or email: contact
 @d-nat.net for details and registration.\n\nFor more information visit
  https://www.grasshopper3d.com/events/reparameterized-0-3
DTSTART;TZID=America/Boise:20150116T140000
DTEND;TZID=America/Boise:20150118T210000
CATEGORIES:grasshopper, beginners, workshop
LOCATION:Mara Art Center, Qasba
WEBSITE:http://www.d-nat.net/reparameterized-03/
URL:http://www.d-nat.net/reparameterized-03/
CONTACT:
ORGANIZER;CN="Zayad Motlib":https://www.grasshopper3d.com/profile/Zaya
 dMotlib
ATTACH;FMTTYPE="image/jpeg":http://storage.ning.com/topology/rest/1.0/
 file/get/2828782937?profile=original
ATTENDEE;ROLE=REQ-PARTICIPANT;PARTSTAT=ACCEPTED;RSVP=TRUE;CN="Zayad Mo
 tlib":https://www.grasshopper3d.com/profile/ZayadMotlib
END:VEVENT
END:VCALENDAR
