BEGIN:VCALENDAR
PRODID:NingEventWidget-v1
VERSION:2.0
METHOD:PUBLISH
BEGIN:VTIMEZONE
TZID:America/Boise
X-LIC-LOCATION:America/Boise
BEGIN:DAYLIGHT
TZOFFSETFROM:-0700
TZOFFSETTO:-0600
TZNAME:MDT
DTSTART:19700308T020000
RRULE:FREQ=YEARLY;BYMONTH=3;BYDAY=2SU
END:DAYLIGHT
BEGIN:STANDARD
TZOFFSETFROM:-0600
TZOFFSETTO:-0700
TZNAME:MST
DTSTART:19701101T020000
RRULE:FREQ=YEARLY;BYMONTH=11;BYDAY=1SU
END:STANDARD
END:VTIMEZONE
BEGIN:VEVENT
UID:2985220:Event:1068094
DTSTAMP:20260423T210545Z
SUMMARY:REACTION 1401 RELOADED
DESCRIPTION:\nIn march 2014 the first REACTION 1401 took place in Pari
 s. Due to a large number of applications, we were unable to accept al
 l the participants.\nWe have decided to replicate the workshop on 27-2
 9th of June 2014.\nRegistration is now open.\nINTRO\nDesign in contemp
 orary architecture focuses on being evolutionary, temporary, changeabl
 e, but above all adaptable and customizable to the socio-technological
  contexts and to people’s needs. By working in tandem with new techn
 ologies through potentially endless approximations, designers can more
  easily and precisely ensure that every morphological decision respond
 s to the multiple requirements of different environments.\nREACTION 14
 01 / JUNE 2014\nREACTION 1401 focuses on understanding and controllin
 g the logics of genetics or evolutionary algorithms. Those evoluti
 onary solvers apply the principles of evolution found in nature to fi
 nd an optimal solution to a problem. We will explore the potentials of
  those design techniques. Environmental and energetic data will be the
  main inputs of those processes that will drive our design choices tow
 ards flexible, progressive, interactive solutions.\nSOFTWARE & SKILLS\
 nBasic modeling skills in Rhino and Grasshopper are required. No speci
 fic environmental modelling design skills are required (although an in
 troductory knowledge of environmental modelling is welcome). Participa
 nts should bring their own laptop with a pre-installed software. The s
 oftware package needed has no additional cost for the participant (Rhi
 no can be downloaded as evaluation version, Grasshopper and plugins ar
 e free). These softwares are subject to frequent updates, so a downloa
 d link to the version used in the workshop will be sent to the partici
 pants a few days before the workshop. The main plugins for Grasshopper
  that will be used are: Heliotrope, Galapagos, Goat, Meshedit, Mesh+, 
 Elk, gHowl. They are all available here.\n\n////////\nYou have no skil
 ls in Grasshopper ?No worries, we have a basic level workshop for you 
 : check-it out !\n\n////////\nWHEN : 27,28,29 of March 2014\nWHERE :
  Paris, details to be defined\n////////\n \nMORE DETAILS AND REGISTRA
 TION AT immaginoteca.pro/reaction1401\n\nFor more information visit h
 ttps://www.grasshopper3d.com/events/reaction-1401-reloaded
DTSTART;TZID=America/Boise:20140627T000000
DTEND;TZID=America/Boise:20140629T235900
CATEGORIES:workshop
LOCATION:Paris
WEBSITE:
URL:
CONTACT:06 52 64 51 09
ORGANIZER;CN="Francesco Cingolani":https://www.grasshopper3d.com/profi
 le/FrancescoCingolani
ATTACH;FMTTYPE="image/jpeg":http://storage.ning.com/topology/rest/1.0/
 file/get/2828551909?profile=original
ATTENDEE;ROLE=REQ-PARTICIPANT;PARTSTAT=ACCEPTED;RSVP=TRUE;CN="Aldo Sol
 lazzo":https://www.grasshopper3d.com/profile/aldosollazzo
ATTENDEE;ROLE=REQ-PARTICIPANT;PARTSTAT=ACCEPTED;RSVP=TRUE;CN="I_M_F [I
 ker Mugarra Flores]":https://www.grasshopper3d.com/profile/I_M_F
ATTENDEE;ROLE=REQ-PARTICIPANT;PARTSTAT=ACCEPTED;RSVP=TRUE;CN="Judyta C
 ichocka":https://www.grasshopper3d.com/profile/JudytaCichocka
ATTENDEE;ROLE=REQ-PARTICIPANT;PARTSTAT=ACCEPTED;RSVP=TRUE;CN="Francesc
 o Cingolani":https://www.grasshopper3d.com/profile/FrancescoCingolani
END:VEVENT
END:VCALENDAR
