BEGIN:VCALENDAR
PRODID:NingEventWidget-v1
VERSION:2.0
METHOD:PUBLISH
BEGIN:VTIMEZONE
TZID:America/Boise
X-LIC-LOCATION:America/Boise
BEGIN:DAYLIGHT
TZOFFSETFROM:-0700
TZOFFSETTO:-0600
TZNAME:MDT
DTSTART:19700308T020000
RRULE:FREQ=YEARLY;BYMONTH=3;BYDAY=2SU
END:DAYLIGHT
BEGIN:STANDARD
TZOFFSETFROM:-0600
TZOFFSETTO:-0700
TZNAME:MST
DTSTART:19701101T020000
RRULE:FREQ=YEARLY;BYMONTH=11;BYDAY=1SU
END:STANDARD
END:VTIMEZONE
BEGIN:VEVENT
UID:2985220:Event:432616
DTSTAMP:20260420T021156Z
SUMMARY:Re-Generative Design_Digital_Fabrication.
DESCRIPTION:PARAMETRIC ANALYSIS & Digital Fabrication | RHINOCEROS + G
 RASSHOPPER\nObjectives:\nThe student will develop computational design
  skills to afford integral design solutions through Grasshopper visual
  scripting; this will lead the design layout into qualitative research
  through contemporary methodologies in the building and fabrication pr
 ocess: Laser cut, cnc milling and 3D printing.\nRegistry and INFO.\n\n
 For more information visit https://www.grasshopper3d.com/events/re-gen
 erative-design-digital-fabrication
DTSTART;TZID=America/Boise:20110929T170000
DTEND;TZID=America/Boise:20111001T213000
CATEGORIES:"#grasshopper", "#workshop", "#generativedesing", "#digital
 fabrication"
LOCATION:Texas A&M University. College of Architecture.
WEBSITE:http://archone.tamu.edu/college/news/newsletters/spring2011/st
 ories/Esquivel_workshop.html
URL:http://archone.tamu.edu/college/news/newsletters/spring2011/storie
 s/Esquivel_workshop.html
CONTACT:
ORGANIZER:Gabriel Esquivel & David Hernandez M.
ATTACH;FMTTYPE="image/jpeg":http://storage.ning.com/topology/rest/1.0/
 file/get/2827827896?profile=original
ATTENDEE;ROLE=REQ-PARTICIPANT;PARTSTAT=ACCEPTED;RSVP=TRUE;CN="David He
 rnández":https://www.grasshopper3d.com/profile/Biofafitos
END:VEVENT
END:VCALENDAR
