BEGIN:VCALENDAR
PRODID:NingEventWidget-v1
VERSION:2.0
METHOD:PUBLISH
BEGIN:VTIMEZONE
TZID:America/Boise
X-LIC-LOCATION:America/Boise
BEGIN:DAYLIGHT
TZOFFSETFROM:-0700
TZOFFSETTO:-0600
TZNAME:MDT
DTSTART:19700308T020000
RRULE:FREQ=YEARLY;BYMONTH=3;BYDAY=2SU
END:DAYLIGHT
BEGIN:STANDARD
TZOFFSETFROM:-0600
TZOFFSETTO:-0700
TZNAME:MST
DTSTART:19701101T020000
RRULE:FREQ=YEARLY;BYMONTH=11;BYDAY=1SU
END:STANDARD
END:VTIMEZONE
BEGIN:VEVENT
UID:2985220:Event:1287737
DTSTAMP:20260423T232507Z
SUMMARY:rat[LAB] Computational Design Tour INDIA // Filling The Void
DESCRIPTION:\nrat[LAB] EDUCATION, in association with all it's collabo
 rators, is pleased to announce the launch of 'FILLING THE VOID // Comp
 utational Design Tour INDIA' as an OPEN DESIGN STUDIO comprising of wo
 rkshops, design sessions & symposia across 5 cities in India. We encou
 rage all architecture & design students and professionals to join us i
 n this novel experimentation event and aid in 'Filling The Void'; Void
  in Architecture, Void in our Cities, Void in Education. REGISTRATIONS
  ARE OPEN NOW.\n\n\n\nrat[LAB] Computational Design Tour - INDIA\n \n
 Agenda // Filling The Void\n1 country // 5 cities // 1 agenda // 100+ 
 students // 25+ professionals // 5 exhibitions // 1 publication\nVoid 
 is typically defined as null, invalid, empty or redundant and has a ps
 ychological perception of a ‘negative’. Through years of developme
 nt in India, there has been an organic urban growth and inorganic arch
 itectural growth which has led to formation of voids in a physical and
  a metaphorical sense. There also exist voids as gaps between architec
 ture, cities, education and technology. ‘Filling The Void’ looks a
 t void as an opportunity, potential and a driver of change for archite
 cture & design education in India.\n \n// Cities & Dates*\nMumbai –
  22nd June to 24th June 2015 (Monday to Wednesday)\nChennai - 29th Jun
 e to 1st July 2015 (Monday to Wednesday)\nBengaluru – 3rd  July to 
 5th July 2015 (Friday to Sunday)\nChandigarh - 16th July to 18th July 
 2015 (Thursday to Saturday)\nNew Delhi – 6th August to 8th August 20
 15 (Thursday to Saturday)\n \n*Venue details are published on rat[LAB
 ] website.\n  \n// Registration Dates\n// Early-bird Registrations O
 pen: 08 May 2015\n// EXTENDED Early-bird registrations End: 05 June 20
 15\n// General Registrations End: 15 June 2015 (Or till seats last)\n\
 n\n\n\n\n\nFor more information visit https://www.grasshopper3d.com/ev
 ents/rat-lab-computational-design-tour-india-filling-the-void
DTSTART;TZID=America/Boise:20150622T000000
DTEND;TZID=America/Boise:20150808T235900
CATEGORIES:workshop, design, studio, exhibitions, "&", symposia
LOCATION:India
WEBSITE:http://www.rat-lab.org/#!fillingthevoid/cw3g
URL:http://www.rat-lab.org/#!fillingthevoid/cw3g
CONTACT:
ORGANIZER;CN="rat[LAB] EDUCATION":https://www.grasshopper3d.com/profil
 e/ratLABEDUCATION
ATTACH;FMTTYPE="image/jpeg":http://storage.ning.com/topology/rest/1.0/
 file/get/2828943177?profile=original
ATTENDEE;ROLE=REQ-PARTICIPANT;PARTSTAT=ACCEPTED;RSVP=TRUE;CN="Mahmudul
  Islam Chowdhury":https://www.grasshopper3d.com/profile/MahmudulIslamC
 howdhury
ATTENDEE;ROLE=REQ-PARTICIPANT;PARTSTAT=ACCEPTED;RSVP=TRUE;CN="rat[LAB]
  EDUCATION":https://www.grasshopper3d.com/profile/ratLABEDUCATION
END:VEVENT
END:VCALENDAR
