BEGIN:VCALENDAR
PRODID:NingEventWidget-v1
VERSION:2.0
METHOD:PUBLISH
BEGIN:VTIMEZONE
TZID:America/Boise
X-LIC-LOCATION:America/Boise
BEGIN:DAYLIGHT
TZOFFSETFROM:-0700
TZOFFSETTO:-0600
TZNAME:MDT
DTSTART:19700308T020000
RRULE:FREQ=YEARLY;BYMONTH=3;BYDAY=2SU
END:DAYLIGHT
BEGIN:STANDARD
TZOFFSETFROM:-0600
TZOFFSETTO:-0700
TZNAME:MST
DTSTART:19701101T020000
RRULE:FREQ=YEARLY;BYMONTH=11;BYDAY=1SU
END:STANDARD
END:VTIMEZONE
BEGIN:VEVENT
UID:2985220:Event:1844916
DTSTAMP:20260423T140915Z
SUMMARY:PYTHON FOR DESIGNERS
DESCRIPTION:Parametric Support invites architects, engineers and desig
 ners to particiapte in Python training.Three days training introduces 
 to Python scripting language and its application to Grasshopper.Requir
 ements for participantsLevelBasic Grasshopper level is necessary. Sof
 twareRhino + Grasshopper VenueParametric Support, Hardenbergstrasse 3
 8, BerlinFee[Early Bird] 400 eur + VAT (until 11/11)[Regular] 450 eur 
 + VATTutor:Agata Migalska is an IT specialist with 9 years of commerci
 al experience in programming, computer system design and team manageme
 nt. Agata is also a PhD candidate in computer science in the field of 
 statistical image processing at Wrocław University of Science and Tec
 hnology, Poland.In her professional career Agata has designed and deve
 loped large enterprise systems (PKP Intercity, TNT, Polish Ministry of
  Administration and Digitization) and e-commerce solutions (Medicalani
 mal.com,Evanscycles.com). She has also worked on scientific projects o
 n image processing, optimization, and human-­computer interaction. Sh
 e has collaborated with researchers from Victoria University, Wellingt
 on, New Zealand and Massachusetts Institute of Technology. Agata is an
  advocate of agile methodology and a Certified ScrumMaster.more info a
 t:hello@parametric.support\n\nFor more information visit https://www.g
 rasshopper3d.com/events/python-for-designers
DTSTART;TZID=America/Boise:20171124T100000
DTEND;TZID=America/Boise:20171126T180000
CATEGORIES:masterclass
LOCATION:Berlin
WEBSITE:https://www.facebook.com/events/1953160251609872/?acontext=%7B
 %22action_history%22%3A%22[%7B%5C%22surface%5C%22%3A%5C%22page%5C%22%2
 C%5C%22mechanism%5C%22%3A%5C%22page_upcoming_events_card%5C%22%2C%5C%2
 2extra_data%5C%22%3A[]%7D]%22%2C%22has_source%22%3Atrue%7D
URL:https://www.facebook.com/events/1953160251609872/?acontext=%7B%22a
 ction_history%22%3A%22[%7B%5C%22surface%5C%22%3A%5C%22page%5C%22%2C%5C
 %22mechanism%5C%22%3A%5C%22page_upcoming_events_card%5C%22%2C%5C%22ext
 ra_data%5C%22%3A[]%7D]%22%2C%22has_source%22%3Atrue%7D
CONTACT:
ORGANIZER:Parametric Support
ATTACH;FMTTYPE="image/jpeg":http://storage.ning.com/topology/rest/1.0/
 file/get/2829914681?profile=original
ATTENDEE;ROLE=REQ-PARTICIPANT;PARTSTAT=ACCEPTED;RSVP=TRUE;CN="Judyta C
 ichocka":https://www.grasshopper3d.com/profile/JudytaCichocka
END:VEVENT
END:VCALENDAR
