BEGIN:VCALENDAR
PRODID:NingEventWidget-v1
VERSION:2.0
METHOD:PUBLISH
BEGIN:VTIMEZONE
TZID:America/Boise
X-LIC-LOCATION:America/Boise
BEGIN:DAYLIGHT
TZOFFSETFROM:-0700
TZOFFSETTO:-0600
TZNAME:MDT
DTSTART:19700308T020000
RRULE:FREQ=YEARLY;BYMONTH=3;BYDAY=2SU
END:DAYLIGHT
BEGIN:STANDARD
TZOFFSETFROM:-0600
TZOFFSETTO:-0700
TZNAME:MST
DTSTART:19701101T020000
RRULE:FREQ=YEARLY;BYMONTH=11;BYDAY=1SU
END:STANDARD
END:VTIMEZONE
BEGIN:VEVENT
UID:2985220:Event:1035838
DTSTAMP:20260423T154735Z
SUMMARY:Public, Private, Protected
DESCRIPTION:The Public, Private, Protected symposium takes stock of th
 e current state of geometric and algorithmic literacy in architectural
  design education, and seeks to understand the evolving dynamic betwee
 n increasingly powerful tools of design and the empowerment of designe
 rs. The discussion pivots around a manuscript for a foundational text 
 on computational geometry and algorithmic architectural design, author
 ed by Joy Ko and Kyle Steinfeld, and in contract to be published by Ro
 utledge by the close of 2014.\n\nFor more information visit https://ww
 w.grasshopper3d.com/events/public-private-protected
DTSTART;TZID=America/Boise:20140407T130000
DTEND;TZID=America/Boise:20140407T210000
CATEGORIES:symposium
LOCATION:UC Berkeley
WEBSITE:http://decod.es/symposium.php
URL:http://decod.es/symposium.php
CONTACT:
ORGANIZER;CN="kyle steinfeld":https://www.grasshopper3d.com/profile/ky
 lesteinfeld
ATTACH;FMTTYPE="image/jpeg":http://storage.ning.com/topology/rest/1.0/
 file/get/2828515533?profile=original
ATTENDEE;ROLE=REQ-PARTICIPANT;PARTSTAT=ACCEPTED;RSVP=TRUE;CN="kyle ste
 infeld":https://www.grasshopper3d.com/profile/kylesteinfeld
END:VEVENT
END:VCALENDAR
