BEGIN:VCALENDAR
PRODID:NingEventWidget-v1
VERSION:2.0
METHOD:PUBLISH
BEGIN:VTIMEZONE
TZID:America/Boise
X-LIC-LOCATION:America/Boise
BEGIN:DAYLIGHT
TZOFFSETFROM:-0700
TZOFFSETTO:-0600
TZNAME:MDT
DTSTART:19700308T020000
RRULE:FREQ=YEARLY;BYMONTH=3;BYDAY=2SU
END:DAYLIGHT
BEGIN:STANDARD
TZOFFSETFROM:-0600
TZOFFSETTO:-0700
TZNAME:MST
DTSTART:19701101T020000
RRULE:FREQ=YEARLY;BYMONTH=11;BYDAY=1SU
END:STANDARD
END:VTIMEZONE
BEGIN:VEVENT
UID:2985220:Event:1086966
DTSTAMP:20260424T182224Z
SUMMARY:PROTOTIPOLAB 2014
DESCRIPTION:ONE WEEK WORKSHOP FOR BUILDING PROTOTYPES IN 1:1 SCALE\nPL
 US SOME OTHER SPECIALIZED WORKSHOPS IN GRASSHOPPER\n\nFor more informa
 tion visit https://www.grasshopper3d.com/events/prototipolab-2014
DTSTART;TZID=America/Boise:20140714T000000
DTEND;TZID=America/Boise:20140719T235900
CATEGORIES:building, "1:1", and, grasshopper, workshop
LOCATION:CENTER FOR ADVANCED STUDIES
WEBSITE:http://www.prototipolab.com
URL:http://www.prototipolab.com
CONTACT:*34 914 160 054
ORGANIZER;CN="pepe ballesteros":https://www.grasshopper3d.com/profile/
 pepeballesteros
ATTACH;FMTTYPE="image/jpeg":http://storage.ning.com/topology/rest/1.0/
 file/get/2828582295?profile=original
ATTENDEE;ROLE=REQ-PARTICIPANT;PARTSTAT=ACCEPTED;RSVP=TRUE;CN="pepe bal
 lesteros":https://www.grasshopper3d.com/profile/pepeballesteros
END:VEVENT
END:VCALENDAR
