BEGIN:VCALENDAR
PRODID:NingEventWidget-v1
VERSION:2.0
METHOD:PUBLISH
BEGIN:VTIMEZONE
TZID:America/Boise
X-LIC-LOCATION:America/Boise
BEGIN:DAYLIGHT
TZOFFSETFROM:-0700
TZOFFSETTO:-0600
TZNAME:MDT
DTSTART:19700308T020000
RRULE:FREQ=YEARLY;BYMONTH=3;BYDAY=2SU
END:DAYLIGHT
BEGIN:STANDARD
TZOFFSETFROM:-0600
TZOFFSETTO:-0700
TZNAME:MST
DTSTART:19701101T020000
RRULE:FREQ=YEARLY;BYMONTH=11;BYDAY=1SU
END:STANDARD
END:VTIMEZONE
BEGIN:VEVENT
UID:2985220:Event:253113
DTSTAMP:20260421T035947Z
SUMMARY:Product Architecture Lab Summer Workshop
DESCRIPTION:The Product Architecture Lab at Stevens Institute of Techn
 ology is offering a 6 week workshop focusing on the topic of Interoper
 ability in Contemporary Design Practice. The Workshop is geared toward
 s architectural professionals looking to upgrade their software skills
  and learn cutting edge computational techniques. Participants who com
 plete the workshop will be able to move fluently between the different
  knowledge domains that inform architectural practice.\n \nMore infor
 mation: Workshop details pdf\n \n\nFor more information visit https:/
 /www.grasshopper3d.com/events/product-architecture-lab
DTSTART;TZID=America/Boise:20110607T180000
DTEND;TZID=America/Boise:20110608T210000
CATEGORIES:summer, workshop
LOCATION:PAE Lab, Stevens Institute of Technology
WEBSITE:http://www.productarchitecturelab.com
URL:http://www.productarchitecturelab.com
CONTACT:
ORGANIZER:John Nastasi
ATTACH;FMTTYPE="image/jpeg":http://storage.ning.com/topology/rest/1.0/
 file/get/2827796583?profile=original
ATTENDEE;ROLE=REQ-PARTICIPANT;PARTSTAT=ACCEPTED;RSVP=TRUE;CN="Jason Li
 m":https://www.grasshopper3d.com/profile/JasonLim
END:VEVENT
END:VCALENDAR
