BEGIN:VCALENDAR
PRODID:NingEventWidget-v1
VERSION:2.0
METHOD:PUBLISH
BEGIN:VTIMEZONE
TZID:America/Boise
X-LIC-LOCATION:America/Boise
BEGIN:DAYLIGHT
TZOFFSETFROM:-0700
TZOFFSETTO:-0600
TZNAME:MDT
DTSTART:19700308T020000
RRULE:FREQ=YEARLY;BYMONTH=3;BYDAY=2SU
END:DAYLIGHT
BEGIN:STANDARD
TZOFFSETFROM:-0600
TZOFFSETTO:-0700
TZNAME:MST
DTSTART:19701101T020000
RRULE:FREQ=YEARLY;BYMONTH=11;BYDAY=1SU
END:STANDARD
END:VTIMEZONE
BEGIN:VEVENT
UID:2985220:Event:546713
DTSTAMP:20260423T052905Z
SUMMARY:Processing Jam: Grasshopper + Processing Module
DESCRIPTION:Processing Jam #2 Barcelona will be held March 2 and 3, 2
 012 in Espai Erre.  Organized by welovecode, this Jam session will be
  organized into four modules exploring the power of Processing in conc
 ert with various protocols and applications. \nOne module, led by Lui
 s E. Fraguada will focus on the communication between Processing and G
 rasshopper utilizing the various protocols available through the gHowl
  add on for Grasshopper.\nThe four modules include:\nProcessing+Grassh
 opper: Luis E. Fraguada (Barcelona) - http://tinyurl.com/6m49x5e\nProc
 essing+OSC: Alba Corral (Barcelona) -\nProcessing+Shypon: Miguel Espad
 a (Madrid) - http://tinyurl.com/7no8egx\nOpenFrameworks+Kinect: Carles
  Gutierrez (Barcelona) - http://tinyurl.com/79mmsnd\nFor registration,
  please email: hola@welovecode.net.\n\n\nFor more information visit ht
 tps://www.grasshopper3d.com/events/processing-jam-grasshopper-processi
 ng-module
DTSTART;TZID=America/Boise:20120302T110000
DTEND;TZID=America/Boise:20120303T190000
CATEGORIES:workshop
LOCATION:Espai Erre
WEBSITE:http://www.errequeerredanza.net/wordpress_espai/?page_id=17
URL:http://www.errequeerredanza.net/wordpress_espai/?page_id=17
CONTACT:
ORGANIZER:http://www.welovecode.net/
ATTACH;FMTTYPE="image/jpeg":http://storage.ning.com/topology/rest/1.0/
 file/get/2827952133?profile=original
ATTENDEE;ROLE=REQ-PARTICIPANT;PARTSTAT=ACCEPTED;RSVP=TRUE;CN="Oriol Ca
 rrasco":https://www.grasshopper3d.com/profile/OriolCarrasco
ATTENDEE;ROLE=REQ-PARTICIPANT;PARTSTAT=ACCEPTED;RSVP=TRUE;CN="Luis Fra
 guada":https://www.grasshopper3d.com/profile/LuisFraguada
ATTENDEE;ROLE=REQ-PARTICIPANT;PARTSTAT=TENTATIVE;RSVP=TRUE;CN="Stephen
  Foley":https://www.grasshopper3d.com/profile/StephenFoley
END:VEVENT
END:VCALENDAR
