BEGIN:VCALENDAR
PRODID:NingEventWidget-v1
VERSION:2.0
METHOD:PUBLISH
BEGIN:VTIMEZONE
TZID:America/Boise
X-LIC-LOCATION:America/Boise
BEGIN:DAYLIGHT
TZOFFSETFROM:-0700
TZOFFSETTO:-0600
TZNAME:MDT
DTSTART:19700308T020000
RRULE:FREQ=YEARLY;BYMONTH=3;BYDAY=2SU
END:DAYLIGHT
BEGIN:STANDARD
TZOFFSETFROM:-0600
TZOFFSETTO:-0700
TZNAME:MST
DTSTART:19701101T020000
RRULE:FREQ=YEARLY;BYMONTH=11;BYDAY=1SU
END:STANDARD
END:VTIMEZONE
BEGIN:VEVENT
UID:2985220:Event:575631
DTSTAMP:20260423T211751Z
SUMMARY:plugit workshop | Grasshopper Livello Base | Pescara
DESCRIPTION:PLUG IT PESCARA | MODELLAZIONE PARAMETRICA CON GRASSHOPPER
  | LIVELLO BASE | 17 > 20 MAGGIO\n.\nmain tutor: ARTURO TEDESCHI,\nfor
 matore autorizzato Rhino Mc Neel, autore di \"Architettura Parametrica
  - Introduzione a Grasshopper\", il primo manuale su Grasshopper.\n.\n
 I corsi PLUG IT nascono dalla volontà di promuovere le nuove tecnolog
 ie digitali di supporto alla progettazione e condividere il know-how m
 aturato attraverso ricerca, collaborazione con i più importanti studi
  di architettura e pubblicazioni internazionali.\n.\nVerranno introdot
 te le nozioni base di Grasshopper approfondendo le metodologie della p
 rogettazione parametrica e le tecniche di modellazione algoritmica per
  la generazione di forme complesse. Il corso è rivolto a studenti e p
 rofessionisti con esperienza minima nella modellazione 3D e si articol
 erà in lezioni teoriche ed esercitazioni.\n. Argomenti trattati:\n- I
 ntroduzione alla progettazione parametrica: teoria, esempi, casi studi
 o - Grasshopper: concetti base, logica algoritmica, interfaccia grafic
 a - Nozioni fondamentali: componenti, connessioni, data flow\n- Funzio
 ni matematiche e logiche, serie, gestione dei dati - Analisi e definiz
 ione di curve e superfici\n- Definizione di griglie e pattern compless
 i - Trasformazioni geometriche, paneling - Attrattori, image sampler\n
 - Data tree: gestione di dati complessi - Digital fabrication: teoria 
 ed esempi - Nesting: scomposizione di oggetti tridimensionali in sezio
 ni piane per macchine CNC\n.\nVerrà rilasciato un attestato finale.\n
 .\nUlteriori info e programma completo su: www.arturotedeschi.com e su
  www.samilolab.it\n\nFor more information visit https://www.grasshoppe
 r3d.com/events/plugit-workshop-grasshopper-livello-base-pescara
DTSTART;TZID=America/Boise:20120517T000000
DTEND;TZID=America/Boise:20120520T235900
CATEGORIES:corso, workshop, livello, base
LOCATION:Samilolab
WEBSITE:http://www.arturotedeschi.com/wordpress/?p=2818, http://www.sa
 milolab.it/
URL:http://www.arturotedeschi.com/wordpress/?p=2818, http://www.samilo
 lab.it/
CONTACT:085 692851
ORGANIZER:Arturo Tedeschi - Samilolab
ATTACH;FMTTYPE="image/jpeg":http://storage.ning.com/topology/rest/1.0/
 file/get/2827987539?profile=original
ATTENDEE;ROLE=REQ-PARTICIPANT;PARTSTAT=ACCEPTED;RSVP=TRUE;CN="Arturo T
 edeschi":https://www.grasshopper3d.com/profile/ArturoTedeschi
END:VEVENT
END:VCALENDAR
