BEGIN:VCALENDAR
PRODID:NingEventWidget-v1
VERSION:2.0
METHOD:PUBLISH
BEGIN:VTIMEZONE
TZID:America/Boise
X-LIC-LOCATION:America/Boise
BEGIN:DAYLIGHT
TZOFFSETFROM:-0700
TZOFFSETTO:-0600
TZNAME:MDT
DTSTART:19700308T020000
RRULE:FREQ=YEARLY;BYMONTH=3;BYDAY=2SU
END:DAYLIGHT
BEGIN:STANDARD
TZOFFSETFROM:-0600
TZOFFSETTO:-0700
TZNAME:MST
DTSTART:19701101T020000
RRULE:FREQ=YEARLY;BYMONTH=11;BYDAY=1SU
END:STANDARD
END:VTIMEZONE
BEGIN:VEVENT
UID:2985220:Event:597517
DTSTAMP:20260419T074433Z
SUMMARY:plugit workshop | Grasshopper Livello Base | Milano
DESCRIPTION:PLUG IT MILANO| MODELLAZIONE PARAMETRICA CON GRASSHOPPER |
  LIVELLO BASE | 19 > 22 LUGLIO 2012  http://www.arturotedeschi.com/wor
 dpress/?p=2914   main tutor: ARTURO TEDESCHI, formatore autorizzato Rh
 ino Mc Neel, autore di \"Architettura Parametrica - Introduzione a Gra
 sshopper\", il primo manuale su Grasshopper.   I corsi PLUG IT nascono
  dalla volontà di promuovere le nuove tecnologie digitali di supporto
  alla progettazione e condividere il know-how maturato attraverso rice
 rca, collaborazione con i più importanti studi di architettura e pubb
 licazioni internazionali. Verranno introdotte le nozioni base di Grass
 hopper approfondendo le metodologie della progettazione parametrica e 
 le tecniche di modellazione algoritmica per la generazione di forme co
 mplesse. Il corso è rivolto a studenti e professionisti con esperienz
 a minima nella modellazione 3D e si articolerà in lezioni teoriche ed
  esercitazioni.   Argomenti trattati:  - Introduzione alla progettazio
 ne parametrica: teoria, esempi, casi studio - Grasshopper: concetti ba
 se, logica algoritmica, interfaccia grafica - Nozioni fondamentali: co
 mponenti, connessioni, data flow  - Funzioni matematiche e logiche, se
 rie, gestione dei dati - Analisi e definizione di curve e superfici  -
  Definizione di griglie e pattern complessi - Trasformazioni geometric
 he, paneling - Attrattori, image sampler  - Data tree: gestione di dat
 i complessi - Digital fabrication: teoria ed esempi - Nesting: scompos
 izione di oggetti tridimensionali in sezioni piane per macchine CNC   
  Verrà rilasciato un attestato finale.   INFO E PRENOTAZIONI:  http:/
 /www.arturotedeschi.com/wordpress/?p=2914\n\nFor more information visi
 t https://www.grasshopper3d.com/events/plugit-workshop-grasshopper-liv
 ello-base-milano
DTSTART;TZID=America/Boise:20120719T000000
DTEND;TZID=America/Boise:20120722T235900
CATEGORIES:corso, workshop, livello, base
LOCATION:Sala meeting NH Grand Hotel Verdi
WEBSITE:http://www.arturotedeschi.com/wordpress/?p=2914
URL:http://www.arturotedeschi.com/wordpress/?p=2914
CONTACT:081 564 21 84
ORGANIZER:Arturo Tedeschi | Le Penseur
ATTACH;FMTTYPE="image/jpeg":http://storage.ning.com/topology/rest/1.0/
 file/get/2828013340?profile=original
ATTENDEE;ROLE=REQ-PARTICIPANT;PARTSTAT=ACCEPTED;RSVP=TRUE;CN="Arturo T
 edeschi":https://www.grasshopper3d.com/profile/ArturoTedeschi
END:VEVENT
END:VCALENDAR
