BEGIN:VCALENDAR
PRODID:NingEventWidget-v1
VERSION:2.0
METHOD:PUBLISH
BEGIN:VTIMEZONE
TZID:America/Boise
X-LIC-LOCATION:America/Boise
BEGIN:DAYLIGHT
TZOFFSETFROM:-0700
TZOFFSETTO:-0600
TZNAME:MDT
DTSTART:19700308T020000
RRULE:FREQ=YEARLY;BYMONTH=3;BYDAY=2SU
END:DAYLIGHT
BEGIN:STANDARD
TZOFFSETFROM:-0600
TZOFFSETTO:-0700
TZNAME:MST
DTSTART:19701101T020000
RRULE:FREQ=YEARLY;BYMONTH=11;BYDAY=1SU
END:STANDARD
END:VTIMEZONE
BEGIN:VEVENT
UID:2985220:Event:474765
DTSTAMP:20260423T123629Z
SUMMARY:PLUG IT | GRASSHOPPER WORKSHOP | TORINO 01 > 04 DICEMBRE
DESCRIPTION:GRASSHOPPER WORKSHOP | LIVELLO BASE\nTORINO 01 > 04 DICEMB
 RE\ntutor: ARTURO TEDESCHI (Authorized Rhino Trainer)\nÂ \nIl workshop
  introdurrÃ  le nozioni base di Grasshopper approfondendo le metodolog
 ie della progettazione parametrica e le tecniche di modellazione algor
 itmica per la generazione di forme complesse\nÂ \n____________________
 _______________________________________________________________\nluogo
 :\nSala meeting Holiday Inn Inn Turin C.so Francia Piazza Massaua 21 â
 €“ TORINO\nÂ \nScadenza iscrizioni: 25 Novembre 2011 â€“ ore 15.00\n__
 ______________________________________________________________________
 ___________\ninfo e prenotazioni:\nLe Penseur (coordinamento formazion
 e)\ninfo@lepenseur.it\n081 564 21 84\n347 548 71 78\nÂ \nquote di part
 ecipazione e programma (formato PDF)\nulteriori informazioni sui corsi
  PLUG > IT\n__________________________________________________________
 _________________________\nPROGRAMMA DEL CORSO:\nÂ \nGIORNO_01 | 01 Di
 cembre 2011\n10.00 â€“ 10.30: presentazione workshop\n10.30 â€“ 11.30:
  introduzione alla progettazione parametrica: teoria, esempi, casi stu
 dio\n11.30 â€“ 13.00: Grasshopper: concetti base, logica algoritmica, 
 interfaccia grafica\n13.00 â€“ 14.00: break\n14.00 â€“ 16.00: nozioni 
 fondamentali: componenti, connessioni, data flow\n16.00 â€“ 18.00: ese
 rcitazione\nÂ \nGIORNO_02 | 02 Dicembre 2011\n10.00 â€“ 12.00: funzion
 i matematiche e logiche, serie, gestione dei dati\n12.00 â€“ 13.00: an
 alisi e definizione di curve e superfici\n13.00 â€“ 14.00: break\n14.0
 0 â€“ 16.00: analisi e definizione di curve e superfici\n16.00 â€“ 18.
 00: definizione di griglie e pattern\nÂ \nGIORNO_03 | 03 Dicembre 2011
 \n10.00 â€“ 12.00: trasformazioni geometriche, paneling\n12.00 â€“ 13.
 00: image sampler\n13.00 â€“ 14.00: break\n14.00 â€“ 18.00: data tree:
  gestione di dati complessi\nÂ \nGIORNO_04 | 04 Dicembre 2011\n10.00 â
 €“ 12.00: digital fabrication: teoria ed esempi\n12.00 â€“ 13.00: nest
 ing: scomposizione di oggetti tridimensionali in sezioni e posizioname
 nto su piani di taglio perÂ Â Â  macchine a controllo numerico CNC\n13
 .00 â€“ 14.00: break\n14.00 â€“ 18.00: esercitazione\n\nFor more infor
 mation visit https://www.grasshopper3d.com/events/plug-it-grasshopper-
 workshop-torino-01-04-dicembre
DTSTART;TZID=America/Boise:20111201T000000
DTEND;TZID=America/Boise:20111204T235900
CATEGORIES:workshop, grasshopper
LOCATION:Sala meeting Holiday Inn Inn Turin C.so Francia
WEBSITE:http://www.arturotedeschi.com/
URL:http://www.arturotedeschi.com/
CONTACT:0815642184
ORGANIZER:Arturo Tedeschi | Edizioni Le Penseur
ATTACH;FMTTYPE="image/jpeg":http://storage.ning.com/topology/rest/1.0/
 file/get/2827872591?profile=original
ATTENDEE;ROLE=REQ-PARTICIPANT;PARTSTAT=ACCEPTED;RSVP=TRUE;CN="Arturo T
 edeschi":https://www.grasshopper3d.com/profile/ArturoTedeschi
END:VEVENT
END:VCALENDAR
