BEGIN:VCALENDAR
PRODID:NingEventWidget-v1
VERSION:2.0
METHOD:PUBLISH
BEGIN:VTIMEZONE
TZID:America/Boise
X-LIC-LOCATION:America/Boise
BEGIN:DAYLIGHT
TZOFFSETFROM:-0700
TZOFFSETTO:-0600
TZNAME:MDT
DTSTART:19700308T020000
RRULE:FREQ=YEARLY;BYMONTH=3;BYDAY=2SU
END:DAYLIGHT
BEGIN:STANDARD
TZOFFSETFROM:-0600
TZOFFSETTO:-0700
TZNAME:MST
DTSTART:19701101T020000
RRULE:FREQ=YEARLY;BYMONTH=11;BYDAY=1SU
END:STANDARD
END:VTIMEZONE
BEGIN:VEVENT
UID:2985220:Event:424864
DTSTAMP:20260420T053208Z
SUMMARY:PLUG IT - GRASSHOPPER WORKSHOP NAPLES
DESCRIPTION:info e programma\nPLUG-IT NAPLESÂ  | GRASSHOPPER WORKSHOPÂ
  livello base\nNAPOLIÂ  29 SETTEMBRE > 02 OTTOBRE 2011\nIl workshop in
 trodurrÃ  le nozioni base di Grasshopper approfondendo le metodologie 
 della progettazione parametrica e le tecniche di modellazione algoritm
 ica per la generazione di forme complesse.Il corso Ã¨ rivolto a studen
 ti e professionisti con esperienza minima nella modellazione 3D e si a
 rticolerÃ  in lezioni teoriche ed esercitazioni. VerrÃ  rilasciato un 
 attestato finale.\ntutor:Â Arturo Tedeschi - autore di \"Progettazione
  Parametrica\" (il primo manuale italiano su Grasshopper), Authorized 
 Rhino Trainer.\nluogo: Meeting Center | Hotel Plaza Napoli Best Wester
 nÂ Â \norganizzazione: LE PENSEUR (Authorized Rhino Training Center)\n
 \nFor more information visit https://www.grasshopper3d.com/events/plug
 -it-grasshopper-workshop-naples
DTSTART;TZID=America/Boise:20110929T000000
DTEND;TZID=America/Boise:20111002T235900
CATEGORIES:grasshopper, base, workshop
LOCATION:Naples, Italy
WEBSITE:http://www.facebook.com/l.php?u=http%3A%2F%2Fwww.edizionilepen
 seur.it%2Fedizioni%2Fimages%2Fplug-it-napoli-2.pdf&h=xAQDweQbV
URL:http://www.facebook.com/l.php?u=http%3A%2F%2Fwww.edizionilepenseur
 .it%2Fedizioni%2Fimages%2Fplug-it-napoli-2.pdf&h=xAQDweQbV
CONTACT:
ORGANIZER:Ed. Le Penseur
ATTACH;FMTTYPE="image/jpeg":http://storage.ning.com/topology/rest/1.0/
 file/get/2804728586?profile=original
ATTENDEE;ROLE=REQ-PARTICIPANT;PARTSTAT=ACCEPTED;RSVP=TRUE;CN="Matteo G
 obbi":https://www.grasshopper3d.com/profile/MatteoGobbi
END:VEVENT
END:VCALENDAR
