BEGIN:VCALENDAR
PRODID:NingEventWidget-v1
VERSION:2.0
METHOD:PUBLISH
BEGIN:VTIMEZONE
TZID:America/Boise
X-LIC-LOCATION:America/Boise
BEGIN:DAYLIGHT
TZOFFSETFROM:-0700
TZOFFSETTO:-0600
TZNAME:MDT
DTSTART:19700308T020000
RRULE:FREQ=YEARLY;BYMONTH=3;BYDAY=2SU
END:DAYLIGHT
BEGIN:STANDARD
TZOFFSETFROM:-0600
TZOFFSETTO:-0700
TZNAME:MST
DTSTART:19701101T020000
RRULE:FREQ=YEARLY;BYMONTH=11;BYDAY=1SU
END:STANDARD
END:VTIMEZONE
BEGIN:VEVENT
UID:2985220:Event:185879
DTSTAMP:20260422T041142Z
SUMMARY:Platica: DiseÃ±o Parametrico Aplicado/Grasshopper
DESCRIPTION:El Centro Integral de DiseÃ±o & nuarle.industrial.design q
 ueremos invitarlos a la Platica : DiseÃ±o ParamÃ©trico Aplicado/Grassh
 opper, que se llevara a cabo el prÃ³ximo Viernes 18 de Marzo a las 12:
 00 pm en la Video Aula Silvio Alverti. El objetivo de este evento es d
 ar a conocer el diseÃ±o paramÃ©trico como nueva tendencia a nivel inte
 rnacional, exponiendo trabajo de diversos diseÃ±adores y arquitectos q
 ue estÃ¡n investigando y experimentando con nuevas herramientas, nueva
 s propuestas formales, nuevas soluciones de fabricaciÃ³n y construcciÃ
 ³n, una nueva manera de abordar el diseÃ±o...\n\nFor more information 
 visit https://www.grasshopper3d.com/events/platica-diseno-parametrico
DTSTART;TZID=America/Boise:20110318T120000
DTEND;TZID=America/Boise:20110318T130000
CATEGORIES:"platica/foro"
LOCATION:Centro Universitario De Arte, Arquitectura y DiseÃ±o, Univers
 idad de Guadalajara
WEBSITE:http://www.facebook.com/event.php?eid=187852007918149
URL:http://www.facebook.com/event.php?eid=187852007918149
CONTACT:3339569209
ORGANIZER;CN="Leonardo Nuevo Arenas":https://www.grasshopper3d.com/pro
 file/nuarle
ATTACH;FMTTYPE="image/jpeg":http://storage.ning.com/topology/rest/1.0/
 file/get/2827773012?profile=original
ATTENDEE;ROLE=REQ-PARTICIPANT;PARTSTAT=ACCEPTED;RSVP=TRUE;CN="Leonardo
  Nuevo Arenas":https://www.grasshopper3d.com/profile/nuarle
END:VEVENT
END:VCALENDAR
