BEGIN:VCALENDAR
PRODID:NingEventWidget-v1
VERSION:2.0
METHOD:PUBLISH
BEGIN:VTIMEZONE
TZID:America/Boise
X-LIC-LOCATION:America/Boise
BEGIN:DAYLIGHT
TZOFFSETFROM:-0700
TZOFFSETTO:-0600
TZNAME:MDT
DTSTART:19700308T020000
RRULE:FREQ=YEARLY;BYMONTH=3;BYDAY=2SU
END:DAYLIGHT
BEGIN:STANDARD
TZOFFSETFROM:-0600
TZOFFSETTO:-0700
TZNAME:MST
DTSTART:19701101T020000
RRULE:FREQ=YEARLY;BYMONTH=11;BYDAY=1SU
END:STANDARD
END:VTIMEZONE
BEGIN:VEVENT
UID:2985220:Event:652609
DTSTAMP:20260424T014957Z
SUMMARY:PATTERNING LAB: Parametric Patterns and Digital Fabrication
DESCRIPTION:PATTERNING LAB: Parametric Patterns and Digital Fabricatio
 n | 2012 August 18-19\nOverview:PATTERNING LAB is a two-day workshop 
 on the topic of Parametric Patterns with Grasshopper for Rhinoceros. I
 n a fast-paced and hands-on learning environment, we will experiment w
 ith the materiality, craft, and effects of patterning through the dist
 ribution of simple and repeatable material events (the cut, the fold, 
 and the perforation). Coupling Parametric Design and Digital Fabricati
 on workflows, we will iteratively test our patterns while learning bes
 t practices for use of a large-format Laser Cutter. Prototypes will ra
 nge in material palette (fabric, paper, plastic) based on participants
 ’ interests and will be used to discuss issues of craft, detailing, 
 and the assembly process.\nFramework:Lab participants will learn how t
 o create and influence repeating elements through the Parametric Desig
 n application Grasshopper for Rhinoceros. Using the newly released ver
 sion of Grasshopper 0.9, the Lab curriculum will include a series of i
 nstructional lectures, guided exercises, and open work sessions. Addit
 ionally, participants will be introduced to and work directly with a l
 arge-format CNC Laser Cutter to iteratively develop design prototypes,
  moving quickly from digital design environments to material artifacts
  and back again. Participants from all creative fields and backgrounds
  are encouraged to attend and lend their perspective to the Lab. Parti
 cipants wishing to develop or refresh their Parametric Design skills b
 efore the workshop are encouraged to attend the associatedINTRO LAB S
 ession. As part of a larger online infrastructure, modeLab, this work
 shop provides participants with continued support and knowledge to dra
 w upon for future learning.\n\nMore information can be found here: ht
 tp://modelab.nu/?p=6865\n\nWe look forward to your participation\n\n\n
 For more information visit https://www.grasshopper3d.com/events/patter
 ning-lab-parametric-patterns-and-digital-fabrication
DTSTART;TZID=America/Boise:20120818T100000
DTEND;TZID=America/Boise:20120819T180000
CATEGORIES:workshop, training
LOCATION:MODE
WEBSITE:http://modelab.nu/?p=6865
URL:http://modelab.nu/?p=6865
CONTACT:3477880570
ORGANIZER;CN="GIL AKOS":https://www.grasshopper3d.com/profile/GILAKOS
ATTACH;FMTTYPE="image/jpeg":http://storage.ning.com/topology/rest/1.0/
 file/get/2828060818?profile=original
ATTENDEE;ROLE=REQ-PARTICIPANT;PARTSTAT=ACCEPTED;RSVP=TRUE;CN="GIL AKOS
 ":https://www.grasshopper3d.com/profile/GILAKOS
END:VEVENT
END:VCALENDAR
