BEGIN:VCALENDAR
PRODID:NingEventWidget-v1
VERSION:2.0
METHOD:PUBLISH
BEGIN:VTIMEZONE
TZID:America/Boise
X-LIC-LOCATION:America/Boise
BEGIN:DAYLIGHT
TZOFFSETFROM:-0700
TZOFFSETTO:-0600
TZNAME:MDT
DTSTART:19700308T020000
RRULE:FREQ=YEARLY;BYMONTH=3;BYDAY=2SU
END:DAYLIGHT
BEGIN:STANDARD
TZOFFSETFROM:-0600
TZOFFSETTO:-0700
TZNAME:MST
DTSTART:19701101T020000
RRULE:FREQ=YEARLY;BYMONTH=11;BYDAY=1SU
END:STANDARD
END:VTIMEZONE
BEGIN:VEVENT
UID:2985220:Event:1290059
DTSTAMP:20260424T010806Z
SUMMARY:Patrones ParamÃ©tricos- Taller BÃ¡sico de Grasshopper - Semi I
 ntensivo de Verano
DESCRIPTION:A travÃ©s del diseÃ±o de patrones y retÃ­culas aprenderÃ¡s
  a modelar paramÃ©tricamente con Rhinoceros + Grasshopper para aplicar
 lo a la manufactura digital en lÃ¡ser y CNC.8 clases y una presentaciÃ
 ³n donde se presentarÃ¡n una pieza cortada con lÃ¡ser o CNC.Extracto d
 e TemarioIntroducciÃ³n Fundamentos Grasshopper Image Sampler V-Ray Int
 eriores Que es es CNCFundamentos Interfase VisualizaciÃ³n - Grasshoppe
 r V-Ray Exteriores Arboles de datos Corte, Laser e impresiÃ³n 3dTeoria
  de Curvas Componentes y parametros Listas de datos V-Ray Materiales C
 lusters ToleranciasTranspociciÃ³n Vectores y reticulas -Atractores Ser
 ies y rangos Teoria de Superficies Conexiones Estrategias de modelado 
 para manufacturaSimetrias TranspocisiÃ³n parametrica Formulas Paneliza
 cion TeorÃ­a de Ensambles TeorÃ­a de archivos para corteAtractores Cul
 l Random  InformaciÃ³n del taller:Fechas: del 8 al 26 de Junio de 2015
 Sesiones: 8 de 3 hrs y presentaciÃ³n finalDuraciÃ³n: 27 hrs.DÃ­as: Lun
 es,MiÃ©rcoles y ViernesHorario: de 19:00 a 22:00 hrsPrecio : $4,500 Ap
 artado: $2,000Pago oportuno (antes del 1 de Junio): $3,500PAQUETESTall
 er y Rhino 5.0 Educativa: $6,500.00 Taller y Rhino 5.0 Comercial: $21,
 000.00 *SÃ³lo hacemos reembolso en cancelaciones con un mÃ­nimo de 15 
 dÃ­as previos al taller.info@dimensiontallerdigital.comtel oficina (55
 ) 50160634\n\nFor more information visit https://www.grasshopper3d.com
 /events/patrones-param-tricos-taller-b-sico-de-grasshopper-semi-intens
 ivo
DTSTART;TZID=America/Boise:20150608T190000
DTEND;TZID=America/Boise:20150626T220000
CATEGORIES:curso, taller, workshop, grasshopper, patrones
LOCATION:DimensiÃ³n N
WEBSITE:http://www.eventbrite.es/e/entradas-patrones-parametricos-tall
 er-grasshopper-semi-intensivo-de-verano-11996532953?aff=estw&utm_conte
 nt=bufferc5dcd&utm_medium=social&utm_source=facebook.com&utm_campaign=
 buffer
URL:http://www.eventbrite.es/e/entradas-patrones-parametricos-taller-g
 rasshopper-semi-intensivo-de-verano-11996532953?aff=estw&utm_content=b
 ufferc5dcd&utm_medium=social&utm_source=facebook.com&utm_campaign=buff
 er
CONTACT:52 1 55 50160634
ORGANIZER;CN="Javier M Gaxiola":https://www.grasshopper3d.com/profile/
 JavierMGaxiola
ATTACH;FMTTYPE="image/jpeg":http://storage.ning.com/topology/rest/1.0/
 file/get/2828947408?profile=original
ATTENDEE;ROLE=REQ-PARTICIPANT;PARTSTAT=ACCEPTED;RSVP=TRUE;CN="Javier M
  Gaxiola":https://www.grasshopper3d.com/profile/JavierMGaxiola
END:VEVENT
END:VCALENDAR
