BEGIN:VCALENDAR
PRODID:NingEventWidget-v1
VERSION:2.0
METHOD:PUBLISH
BEGIN:VTIMEZONE
TZID:America/Boise
X-LIC-LOCATION:America/Boise
BEGIN:DAYLIGHT
TZOFFSETFROM:-0700
TZOFFSETTO:-0600
TZNAME:MDT
DTSTART:19700308T020000
RRULE:FREQ=YEARLY;BYMONTH=3;BYDAY=2SU
END:DAYLIGHT
BEGIN:STANDARD
TZOFFSETFROM:-0600
TZOFFSETTO:-0700
TZNAME:MST
DTSTART:19701101T020000
RRULE:FREQ=YEARLY;BYMONTH=11;BYDAY=1SU
END:STANDARD
END:VTIMEZONE
BEGIN:VEVENT
UID:2985220:Event:871126
DTSTAMP:20260423T213128Z
SUMMARY:Past Forward Bratislava parametric Summer Lab
DESCRIPTION:The 2013 Parametric Bratislava Summer School named „Past
  Forward“ investigates in 6 days on the capabilities of the current 
 digital design tools to create a highly contemporary homage to the a
 rchitectural heritage of the 70's. The participants will learn advance
 d Grasshopper and Starling plugin on the formal explorations of the bu
 ildings of Vladimír Dedeček – a local architectural counterpart of
  Oscar Niemeyer or Marcel Breuer. The Summer School under the patronag
 e of Faculty of Architecture, Slovak University of Technology and 3
 D Dreaming + rese arch, lectured by Michael Pryor (USA) and Mateusz 
 Zwierzycki (PL) will take place in Bratislava, Slovakia on 12th-18th A
 ugust 2013. The participants will be awarded 4+1 ECTS credits (depen
 ding on the project outcome), in the winter semester of the 2013.\n\nF
 or more information visit https://www.grasshopper3d.com/events/past-fo
 rward-bratislava-parametric-summer-lab
DTSTART;TZID=America/Boise:20130811T000000
DTEND;TZID=America/Boise:20130818T235900
CATEGORIES:grasshopper, course
LOCATION:Bratislava, Slovakia
WEBSITE:http://www.parametricbratislava.blogspot.com/p/program-and-con
 ent.html
URL:http://www.parametricbratislava.blogspot.com/p/program-and-conent.
 html
CONTACT:
ORGANIZER:https://www.facebook.com/3ddreaming.architecture  http://www
 .rese-arch.org/
ATTACH;FMTTYPE="image/jpeg":http://storage.ning.com/topology/rest/1.0/
 file/get/2828308870?profile=original
ATTENDEE;ROLE=REQ-PARTICIPANT;PARTSTAT=ACCEPTED;RSVP=TRUE;CN="Mateusz 
 Zwierzycki":https://www.grasshopper3d.com/profile/MateuszZwierzycki
ATTENDEE;ROLE=REQ-PARTICIPANT;PARTSTAT=ACCEPTED;RSVP=TRUE;CN="Michael 
 Pryor":https://www.grasshopper3d.com/profile/MikePryor
END:VEVENT
END:VCALENDAR
