BEGIN:VCALENDAR
PRODID:NingEventWidget-v1
VERSION:2.0
METHOD:PUBLISH
BEGIN:VTIMEZONE
TZID:America/Boise
X-LIC-LOCATION:America/Boise
BEGIN:DAYLIGHT
TZOFFSETFROM:-0700
TZOFFSETTO:-0600
TZNAME:MDT
DTSTART:19700308T020000
RRULE:FREQ=YEARLY;BYMONTH=3;BYDAY=2SU
END:DAYLIGHT
BEGIN:STANDARD
TZOFFSETFROM:-0600
TZOFFSETTO:-0700
TZNAME:MST
DTSTART:19701101T020000
RRULE:FREQ=YEARLY;BYMONTH=11;BYDAY=1SU
END:STANDARD
END:VTIMEZONE
BEGIN:VEVENT
UID:2985220:Event:244
DTSTAMP:20260424T004830Z
SUMMARY:Pasadena Training Class
DESCRIPTION:Andrew Payne will be teaching one day Grasshopper Training
  Class. The class will be geared to beginners/intermediate levels with
  no prior knowledge of Grasshopper needed. For more information...\n\n
 For more information visit https://www.grasshopper3d.com/events/pasade
 na-training-class
DTSTART;TZID=America/Boise:20090524T090000
DTEND;TZID=America/Boise:20090524T170000
CATEGORIES:training, class
LOCATION:Forward Design Office
WEBSITE:http://www.liftarchitects.com/journal/2009/5/9/grasshopper-wor
 kshop-in-pasadena-ca.html
URL:http://www.liftarchitects.com/journal/2009/5/9/grasshopper-worksho
 p-in-pasadena-ca.html
CONTACT:jeffrey@fwdoffice.com
ORGANIZER:Jeff Kim
ATTACH;FMTTYPE="image/jpeg":http://storage.ning.com/topology/rest/1.0/
 file/get/2808565045?profile=original
ATTENDEE;ROLE=REQ-PARTICIPANT;PARTSTAT=ACCEPTED;RSVP=TRUE;CN="Scott Da
 vidson":https://www.grasshopper3d.com/profile/ScottDavidson
END:VEVENT
END:VCALENDAR
