BEGIN:VCALENDAR
PRODID:NingEventWidget-v1
VERSION:2.0
METHOD:PUBLISH
BEGIN:VTIMEZONE
TZID:America/Boise
X-LIC-LOCATION:America/Boise
BEGIN:DAYLIGHT
TZOFFSETFROM:-0700
TZOFFSETTO:-0600
TZNAME:MDT
DTSTART:19700308T020000
RRULE:FREQ=YEARLY;BYMONTH=3;BYDAY=2SU
END:DAYLIGHT
BEGIN:STANDARD
TZOFFSETFROM:-0600
TZOFFSETTO:-0700
TZNAME:MST
DTSTART:19701101T020000
RRULE:FREQ=YEARLY;BYMONTH=11;BYDAY=1SU
END:STANDARD
END:VTIMEZONE
BEGIN:VEVENT
UID:2985220:Event:1563065
DTSTAMP:20260423T212841Z
SUMMARY:Parametric Shadows
DESCRIPTION:Spend two weekends with us to learn parametric design tech
 niques and walk away with a digitally fabricated lamp-shed of your own
  design.A new Beginners Grasshopper Workshop - Design to Fabrication- 
 Dubai. July 29-30 -Aug 5-6\nFor details and registration check out: h
 ttp://www.d-nat.net/parametric-shadows or email: contact@d-nat.net‪
 #‎parametric‬ ‪#‎workshop‬ ‪#‎dubai‬ ‪#‎grassho
 pper\n\nFor more information visit https://www.grasshopper3d.com/event
 s/parametric-shadows
DTSTART;TZID=America/Boise:20160729T090000
DTEND;TZID=America/Boise:20160730T180000
CATEGORIES:workshop
LOCATION:to be announced soon
WEBSITE:http://www.d-nat.net/parametric-shadows
URL:http://www.d-nat.net/parametric-shadows
CONTACT:
ORGANIZER;CN="Zayad Motlib":https://www.grasshopper3d.com/profile/Zaya
 dMotlib
ATTACH;FMTTYPE="image/jpeg":http://storage.ning.com/topology/rest/1.0/
 file/get/2829422608?profile=original
ATTENDEE;ROLE=REQ-PARTICIPANT;PARTSTAT=ACCEPTED;RSVP=TRUE;CN="Zayad Mo
 tlib":https://www.grasshopper3d.com/profile/ZayadMotlib
END:VEVENT
END:VCALENDAR
