BEGIN:VCALENDAR
PRODID:NingEventWidget-v1
VERSION:2.0
METHOD:PUBLISH
BEGIN:VTIMEZONE
TZID:America/Boise
X-LIC-LOCATION:America/Boise
BEGIN:DAYLIGHT
TZOFFSETFROM:-0700
TZOFFSETTO:-0600
TZNAME:MDT
DTSTART:19700308T020000
RRULE:FREQ=YEARLY;BYMONTH=3;BYDAY=2SU
END:DAYLIGHT
BEGIN:STANDARD
TZOFFSETFROM:-0600
TZOFFSETTO:-0700
TZNAME:MST
DTSTART:19701101T020000
RRULE:FREQ=YEARLY;BYMONTH=11;BYDAY=1SU
END:STANDARD
END:VTIMEZONE
BEGIN:VEVENT
UID:2985220:Event:1601686
DTSTAMP:20260422T001317Z
SUMMARY:Parametric Modulations V2.0 by rat[LAB]EDUCATION
DESCRIPTION:\n// rat[LAB] Delhi Studio // 08 – 09 October 2016\n​\
 n// Title\n[Parametric Modulations]v_2.0: Parametric Design & Computat
 ion Workshop\n \n// Level\nBasic & Intermediate (Previous software sk
 ills are not required)\n \n// Agenda\nParametric Design, in the hist
 ory of architecture, has defined many rules for current designers and 
 for future practitioners to follow. One of the strongest aspects that 
 are prominent from this style is ‘geometry’. Arguably, there is no
 thing new about geometry and aesthetics forming the most prominent asp
 ect of any style or era. The language of any style, in the long histor
 y of architecture, is visually defined by geometry or shape, beyond th
 e principles that define the core of the style. In the distinguishable
  style of parametric architecture, geometry has played and is continui
 ng to play an integral role. And with this fairly young style, there a
 re many strings of myths and false notions associated.\n \nThe worksh
 op aims to provide a detailed insight to ‘parametric design’ and e
 mbedded logics behind it through a series of design explorations using
  Rhinoceros & Grasshopper platforms, along with understanding of data-
 driven fabrication strategies. An insight to Computational Design and 
 its subsets of Parametric Design, Algorithmic Design, Generative Desig
 n and Evolutionary Design will be provided through presentations, tech
 nical sessions & studio work, with highlighting agenda of using data i
 nto Hands-on fabrication of a parametrically generated design. A stron
 g focus will be made on ‘geometry’ and ‘matter’.\n \n// Meth
 odology\nWorkshop has been structured to teach participants the use of
  Grasshopper® (Generative modelling plug-in for Rhinoceros) as a gene
 rative tool, and ways to integrate it with Hands-on Fabrication proces
 s. A strong agenda on ‘geometry’ and ‘matter’ will form the f
 ocus of the studio with design experimentation through computational &
  parametric techniques, culminating into a manually fabricated wall pa
 nel using understanding of data-driven design during the course of wor
 kshop.\n\nFor more information visit https://www.grasshopper3d.com/eve
 nts/parametric-modulations-v2-0-by-rat-lab-education
DTSTART;TZID=America/Boise:20161008T100000
DTEND;TZID=America/Boise:20161009T180000
CATEGORIES:parametric, design, workshop
LOCATION:ratLAB Delhi
WEBSITE:http://www.rat-lab.org/education
URL:http://www.rat-lab.org/education
CONTACT:
ORGANIZER;CN="rat[LAB] EDUCATION":https://www.grasshopper3d.com/profil
 e/ratLABEDUCATION
ATTACH;FMTTYPE="image/jpeg":http://storage.ning.com/topology/rest/1.0/
 file/get/2829496600?profile=original
ATTENDEE;ROLE=REQ-PARTICIPANT;PARTSTAT=ACCEPTED;RSVP=TRUE;CN="rat[LAB]
  EDUCATION":https://www.grasshopper3d.com/profile/ratLABEDUCATION
END:VEVENT
END:VCALENDAR
