BEGIN:VCALENDAR
PRODID:NingEventWidget-v1
VERSION:2.0
METHOD:PUBLISH
BEGIN:VTIMEZONE
TZID:America/Boise
X-LIC-LOCATION:America/Boise
BEGIN:DAYLIGHT
TZOFFSETFROM:-0700
TZOFFSETTO:-0600
TZNAME:MDT
DTSTART:19700308T020000
RRULE:FREQ=YEARLY;BYMONTH=3;BYDAY=2SU
END:DAYLIGHT
BEGIN:STANDARD
TZOFFSETFROM:-0600
TZOFFSETTO:-0700
TZNAME:MST
DTSTART:19701101T020000
RRULE:FREQ=YEARLY;BYMONTH=11;BYDAY=1SU
END:STANDARD
END:VTIMEZONE
BEGIN:VEVENT
UID:2985220:Event:896457
DTSTAMP:20260424T010214Z
SUMMARY:Parametric Modeling Workshop with Grasshopper -  Amman - Jorda
 n
DESCRIPTION:Parametric Modeling Workshop Grasshopper - Basic and Advan
 ced Level Amman - Jordan  September 2013\nBasic            Wor
 kshop 1        7 - 11  Sep 2013 Advanced    Workshop 2     1
 4 - 18   Sep 2013 \nTutors: R.G.D.E tutors             Mostaf
 a R. A. Khalifa, Architect           (PhD - UNICAM - Italy)\nAs
 sistants: Nagham Baitawy - Architect - Jordan\n               
  Ahmed Hassan - Architect & TA - Egypt\n\ndeadline registration Augus
 t, 25th , 2013\nhttp://grasshopperworkshopamman.blogspot.com/  introdu
 ction: This workshop will introduce  basic and advanced notions of 
 Grasshopper and the methodology of parametric design and algorithmic 
 modeling and its usage in Architecture, design, landscape, and urban s
 cale. It is intended for professionals and students with a minimum exp
 erience in 3D Modeling.\n\n\n\nFor more information visit https://www.
 grasshopper3d.com/events/parametric-modeling-workshop-with-grasshopper
 -amman-jordan
DTSTART;TZID=America/Boise:20130907T160000
DTEND;TZID=America/Boise:20130918T210000
CATEGORIES:parametric, modeling, grasshopper, workshop, course, basic,
  advanced, amman, jordan
LOCATION:Amman - Jordam
WEBSITE:http://grasshopperworkshopamman.blogspot.com/
URL:http://grasshopperworkshopamman.blogspot.com/
CONTACT:
ORGANIZER:R.G.D.E - NGC Academy
ATTACH;FMTTYPE="image/jpeg":http://storage.ning.com/topology/rest/1.0/
 file/get/2828339250?profile=original
ATTENDEE;ROLE=REQ-PARTICIPANT;PARTSTAT=ACCEPTED;RSVP=TRUE;CN="Mostafa 
 R. A. Khalifa":https://www.grasshopper3d.com/profile/MostafaKhalifa
END:VEVENT
END:VCALENDAR
