BEGIN:VCALENDAR
PRODID:NingEventWidget-v1
VERSION:2.0
METHOD:PUBLISH
BEGIN:VTIMEZONE
TZID:America/Boise
X-LIC-LOCATION:America/Boise
BEGIN:DAYLIGHT
TZOFFSETFROM:-0700
TZOFFSETTO:-0600
TZNAME:MDT
DTSTART:19700308T020000
RRULE:FREQ=YEARLY;BYMONTH=3;BYDAY=2SU
END:DAYLIGHT
BEGIN:STANDARD
TZOFFSETFROM:-0600
TZOFFSETTO:-0700
TZNAME:MST
DTSTART:19701101T020000
RRULE:FREQ=YEARLY;BYMONTH=11;BYDAY=1SU
END:STANDARD
END:VTIMEZONE
BEGIN:VEVENT
UID:2985220:Event:682355
DTSTAMP:20260424T193731Z
SUMMARY:Parametric Modeling | Grasshopper Workshop
DESCRIPTION:Il workshop introduce le nozioni base di Grasshopper appro
 fondendo le metodologie della progettazione parametrica e le tecniche 
 di modellazione algoritmica per la generazione di forme complesse.\nIl
  corso è rivolto a studenti e professionisti con esperienza minima ne
 lla modellazione 3D e si articolerà in lezioni teoriche ed esercitazi
 oni.\n\nFor more information visit https://www.grasshopper3d.com/event
 s/parametric-modeling-grasshopper-workshop
DTSTART;TZID=America/Boise:20121115T100000
DTEND;TZID=America/Boise:20121118T180000
CATEGORIES:workshop
LOCATION:Nh Grand Hotel Verdi
WEBSITE:http://www.edizionilepenseur.it
URL:http://www.edizionilepenseur.it
CONTACT:3475487178
ORGANIZER:Le Penseur
ATTACH;FMTTYPE="image/jpeg":http://storage.ning.com/topology/rest/1.0/
 file/get/2828084827?profile=original
ATTENDEE;ROLE=REQ-PARTICIPANT;PARTSTAT=ACCEPTED;RSVP=TRUE;CN="Giovanni
  Viggiano":https://www.grasshopper3d.com/profile/Martin517
END:VEVENT
END:VCALENDAR
