BEGIN:VCALENDAR
PRODID:NingEventWidget-v1
VERSION:2.0
METHOD:PUBLISH
BEGIN:VTIMEZONE
TZID:America/Boise
X-LIC-LOCATION:America/Boise
BEGIN:DAYLIGHT
TZOFFSETFROM:-0700
TZOFFSETTO:-0600
TZNAME:MDT
DTSTART:19700308T020000
RRULE:FREQ=YEARLY;BYMONTH=3;BYDAY=2SU
END:DAYLIGHT
BEGIN:STANDARD
TZOFFSETFROM:-0600
TZOFFSETTO:-0700
TZNAME:MST
DTSTART:19701101T020000
RRULE:FREQ=YEARLY;BYMONTH=11;BYDAY=1SU
END:STANDARD
END:VTIMEZONE
BEGIN:VEVENT
UID:2985220:Event:1148864
DTSTAMP:20260419T094159Z
SUMMARY:Parametric Landscapes
DESCRIPTION:Two intensive days of parametric models and digital fabric
 ation by AWARE and arch.tualize at URBAN DESIGN LAB.\nWe will use Rhin
 o 5 (evaluation version available) and the latest version of Grasshopp
 er (free). Previous knowledge in Grasshopper is helpful but not requir
 ed. Each participant must bring their own laptop with pre-installed so
 ftware.\nParticipants will have the opportunity to define and produce 
 a medium size lasercut model of a paramatrically-informed surface. The
  model production (laser cutting and assembling) will be kicked off at
  the end of the 2nd workshop day.\nThis workshop will take place in Ur
 ban Design Lab of Transformatori association with the support of: Univ
 ersity of Architecture, Civil Engineering and Geodesy, America for Bul
 garia Foundation, Arch.tualize, Aware and SmartFabLab.\nTutors:\nAnton
  Savov (AWARE)\nAta Mansuroglu (arch.tualize)\nREGISTRATION: Registrat
 ion deadline: 13.10.2014 Fee payment deadline: 20.10.2014 Registration
  at: workshop@transformatori.net Participation fee: 160leva (120leva s
 tudent reduction)\n\nFor more information visit https://www.grasshoppe
 r3d.com/events/parametric-landscape
DTSTART;TZID=America/Boise:20141023T000000
DTEND;TZID=America/Boise:20141024T235900
CATEGORIES:grasshopper, workshop, "/", digital, fabrication
LOCATION:University of Architecture in Sofia
WEBSITE:https://www.facebook.com/events/378766152271632/
URL:https://www.facebook.com/events/378766152271632/
CONTACT:
ORGANIZER:Transfomratori - Urban Design Lab
ATTACH;FMTTYPE="image/jpeg":http://storage.ning.com/topology/rest/1.0/
 file/get/2828692224?profile=original
ATTENDEE;ROLE=REQ-PARTICIPANT;PARTSTAT=ACCEPTED;RSVP=TRUE;CN="Anton Sa
 vov":https://www.grasshopper3d.com/profile/quantx
ATTENDEE;ROLE=REQ-PARTICIPANT;PARTSTAT=ACCEPTED;RSVP=TRUE;CN="Ata Mans
 uroglu":https://www.grasshopper3d.com/profile/Ata
END:VEVENT
END:VCALENDAR
