BEGIN:VCALENDAR
PRODID:NingEventWidget-v1
VERSION:2.0
METHOD:PUBLISH
BEGIN:VTIMEZONE
TZID:America/Boise
X-LIC-LOCATION:America/Boise
BEGIN:DAYLIGHT
TZOFFSETFROM:-0700
TZOFFSETTO:-0600
TZNAME:MDT
DTSTART:19700308T020000
RRULE:FREQ=YEARLY;BYMONTH=3;BYDAY=2SU
END:DAYLIGHT
BEGIN:STANDARD
TZOFFSETFROM:-0600
TZOFFSETTO:-0700
TZNAME:MST
DTSTART:19701101T020000
RRULE:FREQ=YEARLY;BYMONTH=11;BYDAY=1SU
END:STANDARD
END:VTIMEZONE
BEGIN:VEVENT
UID:2985220:Event:921730
DTSTAMP:20260423T105505Z
SUMMARY:Parametric Fields. Grasshopper Workshop - Siracusa, Italy - 18
 /19/20 Ottobre 2013
DESCRIPTION:Il workshop, organizzato da Co-de-iT - Computational desi
 gn Italy, con la collaborazione dello Studio AION_architecture, mira 
 a dare ai partecipanti gli strumenti fondamentali per la gestione e lo
  sviluppo del rapporto tra informazione e geometria. Si lavorerà su s
 istemi ad involucro in condizioni specifiche e i partecipanti imparera
 nno a costruire e sviluppare strutture di dati parametrici per informa
 re geometrie ‘data-driven’ ed estrarre le informazioni rilevanti d
 a tali modelli per il processo di costruzione.\nTutors: Arch. Andrea G
 raziano (Co-de-iT) Arch. Salvo Pappalardo (Studio AION_architecture)\n
 \nInformazioni complete e iscrizioni...\n \n\nFor more information vi
 sit https://www.grasshopper3d.com/events/parametric-fields-grasshopper
 -workshop-siracusa-italy-18-19-20
DTSTART;TZID=America/Boise:20131018T100000
DTEND;TZID=America/Boise:20131020T190000
CATEGORIES:workshop
LOCATION:Officina Ermocrate
WEBSITE:http://goo.gl/maps/shL5B
URL:http://goo.gl/maps/shL5B
CONTACT:+39 347 2730681
ORGANIZER:Andrea Graziano, Salvo Pappalardo
ATTACH;FMTTYPE="image/jpeg":http://storage.ning.com/topology/rest/1.0/
 file/get/2828369662?profile=original
ATTENDEE;ROLE=REQ-PARTICIPANT;PARTSTAT=ACCEPTED;RSVP=TRUE;CN=huarache:
 https://www.grasshopper3d.com/profile/huarache
ATTENDEE;ROLE=REQ-PARTICIPANT;PARTSTAT=ACCEPTED;RSVP=TRUE;CN="Andrea G
 raziano":https://www.grasshopper3d.com/profile/AndreaGraziano
ATTENDEE;ROLE=REQ-PARTICIPANT;PARTSTAT=ACCEPTED;RSVP=TRUE;CN="Salvo Pa
 ppalardo":https://www.grasshopper3d.com/profile/SalvoPappalardo
END:VEVENT
END:VCALENDAR
