BEGIN:VCALENDAR
PRODID:NingEventWidget-v1
VERSION:2.0
METHOD:PUBLISH
BEGIN:VTIMEZONE
TZID:America/Boise
X-LIC-LOCATION:America/Boise
BEGIN:DAYLIGHT
TZOFFSETFROM:-0700
TZOFFSETTO:-0600
TZNAME:MDT
DTSTART:19700308T020000
RRULE:FREQ=YEARLY;BYMONTH=3;BYDAY=2SU
END:DAYLIGHT
BEGIN:STANDARD
TZOFFSETFROM:-0600
TZOFFSETTO:-0700
TZNAME:MST
DTSTART:19701101T020000
RRULE:FREQ=YEARLY;BYMONTH=11;BYDAY=1SU
END:STANDARD
END:VTIMEZONE
BEGIN:VEVENT
UID:2985220:Event:488016
DTSTAMP:20260423T194700Z
SUMMARY:Parametric Design Workshop
DESCRIPTION:All designers and design students are invited to join Para
 metric Design Workshop between 6-9 December 2011 at the Faculty of Ar
 chitecture at Middle East Technical University, Ankara, Turkey.\nRegis
 tration is open to all experience levels. To apply, send a letter of i
 ntent to metu.parametric.design@gmail.com until 25 November 2011. On
 ly 30 seats available!\n \nTutors\nVerena Vogler (EMBT Architects, Ba
 rcelona)\nLuis Fraguada (LaN Architects)\nTobias Schwinn (University o
 f Stuttgart)\nMaite Bravo (BG architects, Barcelona)\nIoulietta Zindro
 u (ahylo studio, Barcelona)\n\nFor more information visit https://www.
 grasshopper3d.com/events/parametric-design-workshop
DTSTART;TZID=America/Boise:20111206T000000
DTEND;TZID=America/Boise:20111209T235900
CATEGORIES:workshop
LOCATION:METU Faculty of Architecture, Ankara Turkey
WEBSITE:http://archweb.metu.edu.tr/dds/workshop/
URL:http://archweb.metu.edu.tr/dds/workshop/
CONTACT:
ORGANIZER:Ipek Gursel & Arzu Gonenc Sorguc
ATTACH;FMTTYPE="image/jpeg":http://storage.ning.com/topology/rest/1.0/
 file/get/2827887368?profile=original
ATTENDEE;ROLE=REQ-PARTICIPANT;PARTSTAT=ACCEPTED;RSVP=TRUE;CN=ipek:http
 s://www.grasshopper3d.com/profile/IpekGursel
END:VEVENT
END:VCALENDAR
