BEGIN:VCALENDAR
PRODID:NingEventWidget-v1
VERSION:2.0
METHOD:PUBLISH
BEGIN:VTIMEZONE
TZID:America/Boise
X-LIC-LOCATION:America/Boise
BEGIN:DAYLIGHT
TZOFFSETFROM:-0700
TZOFFSETTO:-0600
TZNAME:MDT
DTSTART:19700308T020000
RRULE:FREQ=YEARLY;BYMONTH=3;BYDAY=2SU
END:DAYLIGHT
BEGIN:STANDARD
TZOFFSETFROM:-0600
TZOFFSETTO:-0700
TZNAME:MST
DTSTART:19701101T020000
RRULE:FREQ=YEARLY;BYMONTH=11;BYDAY=1SU
END:STANDARD
END:VTIMEZONE
BEGIN:VEVENT
UID:2985220:Event:1751410
DTSTAMP:20260423T090025Z
SUMMARY:Parametric Design Workshop (Rhino + Grasshopper)
DESCRIPTION:Are you interested in gaining Parametric competency to pus
 h your design skills to the next level? Are you ready to learn a very 
 exciting and powerful tool that will take your ideas and concepts to a
  whole new realm?\nThis Parametric Design Workshop will provide you wi
 th the necessary knowledge and ability to use Grasshopper, a free visu
 al programming plugin in Rhinoceros. The workshop will also include a 
 hands on parametric project.\nIf you already know Grasshopper and woul
 d like to uplift your parametric knowledge, then you can choose option
  2.\nOption 1: General Workshop for Beginners - 16 hours: Start 09.Jul
 y.2017\nOption 2: Intensive Workshop for Intermediates - 8 hours: Star
 t 23.July.2017\n\nhttps://www.eventbrite.de/e/parametric-design-worksh
 op-rhino-grasshopper-fablab-berlin-tickets-34480653563\n\nBanner backg
 round by Thomas Diewald\n\nFor more information visit https://www.gras
 shopper3d.com/events/parametric-design-workshop-rhino-grasshopper
DTSTART;TZID=America/Boise:20170709T100000
DTEND;TZID=America/Boise:20170730T140000
CATEGORIES:workshop
LOCATION:FabLab Berlin
WEBSITE:https://www.google.de/maps/place/Fab+Lab+Berlin/@52.5299391,13
 .4158004,17z/data=!3m1!4b1!4m5!3m4!1s0x47a84e1d41b7171d:0x7586bcafdd18
 fcdb!8m2!3d52.5299359!4d13.4179891?hl=en
URL:https://www.google.de/maps/place/Fab+Lab+Berlin/@52.5299391,13.415
 8004,17z/data=!3m1!4b1!4m5!3m4!1s0x47a84e1d41b7171d:0x7586bcafdd18fcdb
 !8m2!3d52.5299359!4d13.4179891?hl=en
CONTACT:
ORGANIZER;CN="Wassef Dabboussi":https://www.grasshopper3d.com/profile/
 WassefDabboussi
ATTACH;FMTTYPE="image/jpeg":http://storage.ning.com/topology/rest/1.0/
 file/get/2829762815?profile=original
ATTENDEE;ROLE=REQ-PARTICIPANT;PARTSTAT=ACCEPTED;RSVP=TRUE;CN="Wassef D
 abboussi":https://www.grasshopper3d.com/profile/WassefDabboussi
END:VEVENT
END:VCALENDAR
