BEGIN:VCALENDAR
PRODID:NingEventWidget-v1
VERSION:2.0
METHOD:PUBLISH
BEGIN:VTIMEZONE
TZID:America/Boise
X-LIC-LOCATION:America/Boise
BEGIN:DAYLIGHT
TZOFFSETFROM:-0700
TZOFFSETTO:-0600
TZNAME:MDT
DTSTART:19700308T020000
RRULE:FREQ=YEARLY;BYMONTH=3;BYDAY=2SU
END:DAYLIGHT
BEGIN:STANDARD
TZOFFSETFROM:-0600
TZOFFSETTO:-0700
TZNAME:MST
DTSTART:19701101T020000
RRULE:FREQ=YEARLY;BYMONTH=11;BYDAY=1SU
END:STANDARD
END:VTIMEZONE
BEGIN:VEVENT
UID:2985220:Event:1805388
DTSTAMP:20260423T212002Z
SUMMARY:Parametric Design Workshop (Rhino + Grasshopper) FabLab Berlin
DESCRIPTION:Are you interested in gaining Parametric competency to pus
 h your design skills to the next level? Are you ready to learn a very 
 exciting and powerful tool that will take your ideas and concepts to a
  whole new realm?\nThis Parametric Design Workshop will provide you wi
 th the necessary knowledge and ability to use Grasshopper, a free visu
 al programming plugin in Rhinoceros. The workshop will also include a 
 hands on parametric project.\nIf you already know Grasshopper and woul
 d like to uplift your parametric knowledge, then you can choose option
  2.\nOption 1: General Workshop for Beginners - 16 hours: Start 03.09.
 2017\nOption 2: Intensive Workshop for Intermediates - 8 hours: Start 
 17.09.2017\n\nhttps://www.eventbrite.de/e/parametric-design-workshop-r
 hino-grasshopper-fablab-berlin-tickets-36445338990\n\nFor more informa
 tion visit https://www.grasshopper3d.com/events/parametric-design-work
 shop-rhino-grasshopper-fablab-berlin
DTSTART;TZID=America/Boise:20170903T100000
DTEND;TZID=America/Boise:20170924T140000
CATEGORIES:workshop
LOCATION:FabLab Berlin
WEBSITE:https://www.eventbrite.de/e/parametric-design-workshop-rhino-g
 rasshopper-fablab-berlin-tickets-36445338990
URL:https://www.eventbrite.de/e/parametric-design-workshop-rhino-grass
 hopper-fablab-berlin-tickets-36445338990
CONTACT:
ORGANIZER;CN="Wassef Dabboussi":https://www.grasshopper3d.com/profile/
 WassefDabboussi
ATTACH;FMTTYPE="image/jpeg":http://storage.ning.com/topology/rest/1.0/
 file/get/2829855533?profile=original
ATTENDEE;ROLE=REQ-PARTICIPANT;PARTSTAT=ACCEPTED;RSVP=TRUE;CN="Wassef D
 abboussi":https://www.grasshopper3d.com/profile/WassefDabboussi
END:VEVENT
END:VCALENDAR
