BEGIN:VCALENDAR
PRODID:NingEventWidget-v1
VERSION:2.0
METHOD:PUBLISH
BEGIN:VTIMEZONE
TZID:America/Boise
X-LIC-LOCATION:America/Boise
BEGIN:DAYLIGHT
TZOFFSETFROM:-0700
TZOFFSETTO:-0600
TZNAME:MDT
DTSTART:19700308T020000
RRULE:FREQ=YEARLY;BYMONTH=3;BYDAY=2SU
END:DAYLIGHT
BEGIN:STANDARD
TZOFFSETFROM:-0600
TZOFFSETTO:-0700
TZNAME:MST
DTSTART:19701101T020000
RRULE:FREQ=YEARLY;BYMONTH=11;BYDAY=1SU
END:STANDARD
END:VTIMEZONE
BEGIN:VEVENT
UID:2985220:Event:1606915
DTSTAMP:20260419T132211Z
SUMMARY:Parametric Design workshop - Argentina
DESCRIPTION:El workshop está enfocado en la creación de códigos alg
 orítmicos como mecanismo de búsqueda de formas complejas y la optimi
 zación de las misma para su futura fabricación.\nEn su momento, pion
 eros en la búsqueda de la forma tales como Frei Otto, Gaudí, Heinz I
 sler, Félix Candela entre otros lograron avances en el estudio de mod
 elos físicos matemáticos. Hoy los sistemas computacionales, programa
 s de diseño CAD y la programación permiten el diseño de algoritmos 
 que simulan los comportamientos físicos de procesos naturales, permit
 iendo al diseñador una variedad de iteraciones digitales.\nLos partic
 ipantes podrán generar un sistema complejo que determine la relación
  entre los elementos , visualizar la información emergente en tiempo 
 real y ver cómo la complejidad del sistema permite el análisis sobre
  los datos logrando una mayor eficiencia en los resultados.En la etapa
  final del workshop los participantes tendrán un acercamiento directo
  a las técnicas de fabricación digital que hoy en día permiten la r
 ealización de geometrías complejas, como es el caso de la Impresión
  3D.\n\nhttp://www.creafablab.com/formacion/diseno-parametrico/\n\nFor
  more information visit https://www.grasshopper3d.com/events/parametri
 c-design-workshop-argentina
DTSTART;TZID=America/Boise:20161013T140000
DTEND;TZID=America/Boise:20161015T200000
CATEGORIES:workshop
LOCATION:Argentina
WEBSITE:http://www.creafablab.com/formacion/diseno-parametrico/
URL:http://www.creafablab.com/formacion/diseno-parametrico/
CONTACT:
ORGANIZER;CN="Arturo De La Fuente":https://www.grasshopper3d.com/profi
 le/ArturodelaFuente
ATTACH;FMTTYPE="image/jpeg":http://storage.ning.com/topology/rest/1.0/
 file/get/2829506286?profile=original
ATTENDEE;ROLE=REQ-PARTICIPANT;PARTSTAT=ACCEPTED;RSVP=TRUE;CN="Arturo D
 e La Fuente":https://www.grasshopper3d.com/profile/ArturodelaFuente
END:VEVENT
END:VCALENDAR
