BEGIN:VCALENDAR
PRODID:NingEventWidget-v1
VERSION:2.0
METHOD:PUBLISH
BEGIN:VTIMEZONE
TZID:America/Boise
X-LIC-LOCATION:America/Boise
BEGIN:DAYLIGHT
TZOFFSETFROM:-0700
TZOFFSETTO:-0600
TZNAME:MDT
DTSTART:19700308T020000
RRULE:FREQ=YEARLY;BYMONTH=3;BYDAY=2SU
END:DAYLIGHT
BEGIN:STANDARD
TZOFFSETFROM:-0600
TZOFFSETTO:-0700
TZNAME:MST
DTSTART:19701101T020000
RRULE:FREQ=YEARLY;BYMONTH=11;BYDAY=1SU
END:STANDARD
END:VTIMEZONE
BEGIN:VEVENT
UID:2985220:Event:1727808
DTSTAMP:20260424T101828Z
SUMMARY:Parametric Design with Grasshopper @ Fablab Venezia
DESCRIPTION:Sono aperte le iscrizioni al corso di Parametric Design wi
 th Grasshopper.  Organizzato in collaborazione con Ordine degli Archi
 tetti Venezia, saranno corrisposti crediti formativi professionali (18
  CFP) Il corso offrirà le basi per la modellazione parametrica attrav
 erso l’interfaccia generativa Grasshopper, plug-in del noto modellat
 ore nurbs, Rhinoceros. Attraverso una serie di esercizi che si svolger
 anno durante il corso, si spiegheranno i temi fondamentali che stanno 
 alla base della modellazione generativa e del design parametrico. Doce
 nte Leonidas Paterakis.  Il corso è rivolto a chi ha già una famili
 arità minima con la modellazione attraverso Rhinoceros e vuole amplia
 re le proprie competenze verso il campo della modellazione parametric
 a e generativa, e si terrà da martedì 18.04.2017 a giovedì 20.04.20
 17 – dalle 10:00 alle 17:00.  VEGA Parco Scientifico Tecnologico Via
  della Libertà 12 – Venezia Edificio Porta dell’Innovazione – P
 iano Terra  Le iscrizioni chiuderanno giovedì 13.04.2017.  Il corso h
 a un costo di 270,00 euro + iva (329.40) per i tesserati e convenziona
 ti, per i non tesserati il costo sarà di 330,00 + iva (402.60) euro. 
  Per informazioni e iscrizioni:\nhttp://www.fablabvenezia.org/parametr
 ic-design-with-grasshopper/\n\nFor more information visit https://www.
 grasshopper3d.com/events/parametric-design-with-grasshopper
DTSTART;TZID=America/Boise:20170418T000000
DTEND;TZID=America/Boise:20170420T235900
CATEGORIES:parametric, design, with, grasshopper, course, workshop
LOCATION:Fablab Venezia
WEBSITE:https://www.google.it/maps/place/Fablab+Venezia/@45.473863,12.
 25219,15z/data=!4m5!3m4!1s0x0:0xbb0c564becfa88c1!8m2!3d45.473863!4d12.
 25219
URL:https://www.google.it/maps/place/Fablab+Venezia/@45.473863,12.2521
 9,15z/data=!4m5!3m4!1s0x0:0xbb0c564becfa88c1!8m2!3d45.473863!4d12.2521
 9
CONTACT:
ORGANIZER;CN=Leonidas:https://www.grasshopper3d.com/profile/Leonidas
ATTACH;FMTTYPE="image/jpeg":http://storage.ning.com/topology/rest/1.0/
 file/get/2829534939?profile=original
ATTENDEE;ROLE=REQ-PARTICIPANT;PARTSTAT=ACCEPTED;RSVP=TRUE;CN=Leonidas:
 https://www.grasshopper3d.com/profile/Leonidas
END:VEVENT
END:VCALENDAR
