BEGIN:VCALENDAR
PRODID:NingEventWidget-v1
VERSION:2.0
METHOD:PUBLISH
BEGIN:VTIMEZONE
TZID:America/Boise
X-LIC-LOCATION:America/Boise
BEGIN:DAYLIGHT
TZOFFSETFROM:-0700
TZOFFSETTO:-0600
TZNAME:MDT
DTSTART:19700308T020000
RRULE:FREQ=YEARLY;BYMONTH=3;BYDAY=2SU
END:DAYLIGHT
BEGIN:STANDARD
TZOFFSETFROM:-0600
TZOFFSETTO:-0700
TZNAME:MST
DTSTART:19701101T020000
RRULE:FREQ=YEARLY;BYMONTH=11;BYDAY=1SU
END:STANDARD
END:VTIMEZONE
BEGIN:VEVENT
UID:2985220:Event:1622051
DTSTAMP:20260419T080158Z
SUMMARY:Parametric Design with Grasshopper @ Fablab Venezia
DESCRIPTION:Sono aperte le iscrizioni al corso di Parametric Design wi
 th Grasshopper.\n\nIl corso offrirà le basi per la modellazione param
 etrica attraverso l’interfaccia generativa Grasshopper, plug-in del 
 noto modellatore nurbs, Rhinoceros. Attraverso una serie di esercizi c
 he si svolgeranno durante il corso, si spiegheranno i temi fondamental
 i che stanno alla base della modellazione generativa e del design para
 metrico.\nIl corso è rivolto a chi ha già una familiarità minima co
 n la modellazione attraverso Rhinoceros e vuole ampliare le proprie co
 mpetenze verso il campo della modellazione parametrica e generativa, e
  si terrà da martedì 25.10.2016 a giovedì 27.10.2016 – dalle 10:
 00 alle 17:00.\nPotete scaricare qui il PROGRAMMA DEL CORSO.\nIl cale
 ndario dei corsi è consultabile qui.\nVEGA Parco Scientifico Tecnolo
 gicoVia della Libertà 12 – VeneziaEdificio Porta dell’Innovazione
  – Piano Terra\nPer maggiori informazioni:\nhttp://www.fablabvenezia
 .org/parametric-design-with-grasshopper/\n\nFor more information visit
  https://www.grasshopper3d.com/events/parametric-design-with-grasshopp
 er-fablab-venezia
DTSTART;TZID=America/Boise:20161025T000000
DTEND;TZID=America/Boise:20161027T235900
CATEGORIES:3-day, grasshopper, course
LOCATION:Fablab Venezia
WEBSITE:http://www.fablabvenezia.org/parametric-design-with-grasshoppe
 r/
URL:http://www.fablabvenezia.org/parametric-design-with-grasshopper/
CONTACT:
ORGANIZER;CN=Leonidas:https://www.grasshopper3d.com/profile/Leonidas
ATTACH;FMTTYPE="image/jpeg":http://storage.ning.com/topology/rest/1.0/
 file/get/2829534939?profile=original
ATTENDEE;ROLE=REQ-PARTICIPANT;PARTSTAT=ACCEPTED;RSVP=TRUE;CN=Leonidas:
 https://www.grasshopper3d.com/profile/Leonidas
END:VEVENT
END:VCALENDAR
