BEGIN:VCALENDAR
PRODID:NingEventWidget-v1
VERSION:2.0
METHOD:PUBLISH
BEGIN:VTIMEZONE
TZID:America/Boise
X-LIC-LOCATION:America/Boise
BEGIN:DAYLIGHT
TZOFFSETFROM:-0700
TZOFFSETTO:-0600
TZNAME:MDT
DTSTART:19700308T020000
RRULE:FREQ=YEARLY;BYMONTH=3;BYDAY=2SU
END:DAYLIGHT
BEGIN:STANDARD
TZOFFSETFROM:-0600
TZOFFSETTO:-0700
TZNAME:MST
DTSTART:19701101T020000
RRULE:FREQ=YEARLY;BYMONTH=11;BYDAY=1SU
END:STANDARD
END:VTIMEZONE
BEGIN:VEVENT
UID:2985220:Event:1067990
DTSTAMP:20260423T074026Z
SUMMARY:Parametric design, Optimization and Fabrication Workshop
DESCRIPTION:A Workshop on the subject of Parametric design techniques,
  Optimization based on structure and energy efficiency and fabrication
  algorithms.\n\n1- Intro to Parametric modeling\n\n\n2- Point,curve an
 d Surface attractors\n\n\n3- Relation between mathematics and Form\n\n
 \n4- Network surface and Paneling\n\n5- Fabrication methods (slice3d, 
 nesting, ...)\n\n\n6- Structure and Architecture (Millipede)\n\n\n7-En
 ergy and form\n\n\n8- Islamic patterns \n\n9- Physics with kangaroo\n
 \n\nFor more information visit https://www.grasshopper3d.com/events/pa
 rametric-design-optimization-and-fabrication-workshop
DTSTART;TZID=America/Boise:20140515T000000
DTEND;TZID=America/Boise:20140516T235900
CATEGORIES:workshop
LOCATION:Tehran,Iran
WEBSITE:https://www.google.com/maps/@35.707552,51.3918195,19z
URL:https://www.google.com/maps/@35.707552,51.3918195,19z
CONTACT:+98 21 88946393
ORGANIZER:Grasshopper3d.ir
ATTACH;FMTTYPE="image/jpeg":http://storage.ning.com/topology/rest/1.0/
 file/get/2828551554?profile=original
ATTENDEE;ROLE=REQ-PARTICIPANT;PARTSTAT=ACCEPTED;RSVP=TRUE;CN="Parametr
 ic House":https://www.grasshopper3d.com/profile/parametric
END:VEVENT
END:VCALENDAR
