BEGIN:VCALENDAR
PRODID:NingEventWidget-v1
VERSION:2.0
METHOD:PUBLISH
BEGIN:VTIMEZONE
TZID:America/Boise
X-LIC-LOCATION:America/Boise
BEGIN:DAYLIGHT
TZOFFSETFROM:-0700
TZOFFSETTO:-0600
TZNAME:MDT
DTSTART:19700308T020000
RRULE:FREQ=YEARLY;BYMONTH=3;BYDAY=2SU
END:DAYLIGHT
BEGIN:STANDARD
TZOFFSETFROM:-0600
TZOFFSETTO:-0700
TZNAME:MST
DTSTART:19701101T020000
RRULE:FREQ=YEARLY;BYMONTH=11;BYDAY=1SU
END:STANDARD
END:VTIMEZONE
BEGIN:VEVENT
UID:2985220:Event:2266999
DTSTAMP:20260422T013319Z
SUMMARY:Parametric Design Live Webinar Beginner to Advanced
DESCRIPTION:Are you interested in gaining Parametric competency to pus
 h your design skills to the next level?\nAre you ready to learn a very
  exciting and powerful tool that will take your ideas and concepts to 
 a whole new realm?\nThis Parametric Design Webinar will provide you wi
 th the necessary knowledge and ability to use Grasshopper, a free visu
 al programming plugin in Rhinoceros.\n \nFULL BEGINNER TO ADVANCED -
  4 Days /  8 hours in total\nStart 12.11.2022\nLive Webinar Time: 10
 :00 - 12:00 CET\nTIME ZONE: CET\nWEBINAR Language: ENGLISH\nCERTIFICAT
 E: Participants will be given a certificate of participation at the en
 d of the WEBINAR\nWEBINAR LINK: WEBINAR invitation link will be sent 
 to all participants after registration via private Email\n\nKindly re
 serve your Tickets here:\nhttps://billetto.eu/e/parametric-design-live
 -webinar-beginner-to-advanced-Tickets-738970\n\nFor more information v
 isit https://www.grasshopper3d.com/events/parametric-design-live-webin
 ar-beginner-to-advanced
DTSTART;TZID=America/Boise:20221112T100000
DTEND;TZID=America/Boise:20221120T120000
CATEGORIES:webinar
LOCATION:Online
WEBSITE:https://billetto.eu/e/parametric-design-live-webinar-beginner-
 to-advanced-Tickets-738970
URL:https://billetto.eu/e/parametric-design-live-webinar-beginner-to-a
 dvanced-Tickets-738970
CONTACT:
ORGANIZER;CN="Wassef Dabboussi":https://www.grasshopper3d.com/profile/
 WassefDabboussi
ATTACH;FMTTYPE="image/jpeg":https://storage.ning.com/topology/rest/1.0
 /file/get/10270927075?profile=original
ATTENDEE;ROLE=REQ-PARTICIPANT;PARTSTAT=ACCEPTED;RSVP=TRUE;CN="Wassef D
 abboussi":https://www.grasshopper3d.com/profile/WassefDabboussi
END:VEVENT
END:VCALENDAR
