BEGIN:VCALENDAR
PRODID:NingEventWidget-v1
VERSION:2.0
METHOD:PUBLISH
BEGIN:VTIMEZONE
TZID:America/Boise
X-LIC-LOCATION:America/Boise
BEGIN:DAYLIGHT
TZOFFSETFROM:-0700
TZOFFSETTO:-0600
TZNAME:MDT
DTSTART:19700308T020000
RRULE:FREQ=YEARLY;BYMONTH=3;BYDAY=2SU
END:DAYLIGHT
BEGIN:STANDARD
TZOFFSETFROM:-0600
TZOFFSETTO:-0700
TZNAME:MST
DTSTART:19701101T020000
RRULE:FREQ=YEARLY;BYMONTH=11;BYDAY=1SU
END:STANDARD
END:VTIMEZONE
BEGIN:VEVENT
UID:2985220:Event:210839
DTSTAMP:20260424T160619Z
SUMMARY:Parametric Design course in Tallinn (Estonia) 9-10-11/May/2011
DESCRIPTION:\nThe course Parametric Design is addressed to professiona
 ls and students in every design field, who want to learn the latest in
 novative software technologies for design. It will investigate the pot
 entialities offered by the associative and generative design methodolo
 gies using the software Grasshopper. The outcome of the course will be
  a good knowledge and practice of parametric design tools and processe
 s to achieve more performative and attractive projects, proper and env
 ironmentally fit design solutions for a variety of project issues.\n\n
 For more information visit https://www.grasshopper3d.com/events/parame
 tric-design-course-in-1
DTSTART;TZID=America/Boise:20110509T000000
DTEND;TZID=America/Boise:20110511T235900
CATEGORIES:grasshopper, course, parametric
LOCATION:Mainor Business School - Design Institute
WEBSITE:http://www.mk.ee/index.php?pg=528
URL:http://www.mk.ee/index.php?pg=528
CONTACT:
ORGANIZER;CN="Francesco De Luca":https://www.grasshopper3d.com/profile
 /FrancescoDeLuca
ATTACH;FMTTYPE="image/jpeg":http://storage.ning.com/topology/rest/1.0/
 file/get/2827778443?profile=original
ATTENDEE;ROLE=REQ-PARTICIPANT;PARTSTAT=ACCEPTED;RSVP=TRUE;CN="Irene Me
 nnini":https://www.grasshopper3d.com/profile/IreneMennini
ATTENDEE;ROLE=REQ-PARTICIPANT;PARTSTAT=ACCEPTED;RSVP=TRUE;CN="Francesc
 o De Luca":https://www.grasshopper3d.com/profile/FrancescoDeLuca
END:VEVENT
END:VCALENDAR
