BEGIN:VCALENDAR
PRODID:NingEventWidget-v1
VERSION:2.0
METHOD:PUBLISH
BEGIN:VTIMEZONE
TZID:America/Boise
X-LIC-LOCATION:America/Boise
BEGIN:DAYLIGHT
TZOFFSETFROM:-0700
TZOFFSETTO:-0600
TZNAME:MDT
DTSTART:19700308T020000
RRULE:FREQ=YEARLY;BYMONTH=3;BYDAY=2SU
END:DAYLIGHT
BEGIN:STANDARD
TZOFFSETFROM:-0600
TZOFFSETTO:-0700
TZNAME:MST
DTSTART:19701101T020000
RRULE:FREQ=YEARLY;BYMONTH=11;BYDAY=1SU
END:STANDARD
END:VTIMEZONE
BEGIN:VEVENT
UID:2985220:Event:1128492
DTSTAMP:20260419T061228Z
SUMMARY:Parametric Collaboration by Andrew Heumann, NBBJ
DESCRIPTION:This workshop focuses on collaborative strategies for para
 metric modeling in Grasshopper. In theory, parametric tools make colla
 boration efficient, streamlined, and powerful, but in practice there a
 re significant challenges. Code may not be reusable from project to pr
 oject, and visual scripting can be hard to share between users as ther
 e are fewer established standards of annotation and structure. It may 
 be difficult to have multiple people modifying a parametric model at t
 he same time. At NBBJ we have developed strategies for building and ma
 naging complex parametric building models: best practices, custom plug
 -ins, and unconventional ways of deploying existing features and tools
 . The first half of the workshop will focus on introducing and experim
 enting with these tools and techniques. The second half will be organi
 zed around a collaborative design exercise wherein participants can pu
 t these approaches into practice, identify and troubleshoot potential 
 issues, and brainstorm new techniques. The workshop outcome will be a 
 fully parametric building design model with components contributed by 
 all workshop participants in a highly collaborative workflow. All part
 icipants will leave with a complete copy of this model and documentati
 on of the workflows and tools employed.\n\nFor more information visit 
 https://www.grasshopper3d.com/events/parametric-collaboration-by-andre
 w-heumann-nbbj
DTSTART;TZID=America/Boise:20141020T000000
DTEND;TZID=America/Boise:20141022T235900
CATEGORIES:3-day, workshop
LOCATION:Design Agency
WEBSITE:http://2014.acadia.org/workshops.html
URL:http://2014.acadia.org/workshops.html
CONTACT:
ORGANIZER:ACADIA 2014
ATTACH;FMTTYPE="image/jpeg":http://storage.ning.com/topology/rest/1.0/
 file/get/2828652984?profile=original
END:VEVENT
END:VCALENDAR
