BEGIN:VCALENDAR
PRODID:NingEventWidget-v1
VERSION:2.0
METHOD:PUBLISH
BEGIN:VTIMEZONE
TZID:America/Boise
X-LIC-LOCATION:America/Boise
BEGIN:DAYLIGHT
TZOFFSETFROM:-0700
TZOFFSETTO:-0600
TZNAME:MDT
DTSTART:19700308T020000
RRULE:FREQ=YEARLY;BYMONTH=3;BYDAY=2SU
END:DAYLIGHT
BEGIN:STANDARD
TZOFFSETFROM:-0600
TZOFFSETTO:-0700
TZNAME:MST
DTSTART:19701101T020000
RRULE:FREQ=YEARLY;BYMONTH=11;BYDAY=1SU
END:STANDARD
END:VTIMEZONE
BEGIN:VEVENT
UID:2985220:Event:1406132
DTSTAMP:20260422T014458Z
SUMMARY:Parallelism in Architecture and Computing Techniques, (PACT)
DESCRIPTION:The theme of Parallelism in Architecture and Computing Tec
 hniques (PACT) 2016 explores the relations between computational desig
 n software in architecture, organizational and global, ever-changing a
 nd pervasive contexts. This conference looks at how the new trends of 
 architectural technologies and computational thinking can adapt to inc
 rease the ability in finding a complex digital fabrication, augmented 
 reality, and intelligent environment. \nfor more information visit ou
 r website\n\nFor more information visit https://www.grasshopper3d.com
 /events/parallelism-in-architecture-and-computing-techniques-pact-9
DTSTART;TZID=America/Boise:20161012T000000
DTEND;TZID=America/Boise:20161014T235900
CATEGORIES:conference
LOCATION:london
WEBSITE:https://www.ierek.com/events/parallelism-in-architecture-and-c
 omputing-techniques/#location
URL:https://www.ierek.com/events/parallelism-in-architecture-and-compu
 ting-techniques/#location
CONTACT:002035763828
ORGANIZER;CN=nada:https://www.grasshopper3d.com/profile/nada
ATTACH;FMTTYPE="image/jpeg":http://storage.ning.com/topology/rest/1.0/
 file/get/2829143873?profile=original
ATTENDEE;ROLE=REQ-PARTICIPANT;PARTSTAT=ACCEPTED;RSVP=TRUE;CN=nada:http
 s://www.grasshopper3d.com/profile/nada
ATTENDEE;ROLE=REQ-PARTICIPANT;PARTSTAT=ACCEPTED;RSVP=TRUE;CN="Zuardin 
 Akbar":https://www.grasshopper3d.com/profile/adinakbar
END:VEVENT
END:VCALENDAR
