BEGIN:VCALENDAR
PRODID:NingEventWidget-v1
VERSION:2.0
METHOD:PUBLISH
BEGIN:VTIMEZONE
TZID:America/Boise
X-LIC-LOCATION:America/Boise
BEGIN:DAYLIGHT
TZOFFSETFROM:-0700
TZOFFSETTO:-0600
TZNAME:MDT
DTSTART:19700308T020000
RRULE:FREQ=YEARLY;BYMONTH=3;BYDAY=2SU
END:DAYLIGHT
BEGIN:STANDARD
TZOFFSETFROM:-0600
TZOFFSETTO:-0700
TZNAME:MST
DTSTART:19701101T020000
RRULE:FREQ=YEARLY;BYMONTH=11;BYDAY=1SU
END:STANDARD
END:VTIMEZONE
BEGIN:VEVENT
UID:2985220:Event:765032
DTSTAMP:20260420T010245Z
SUMMARY:OPENDAY|parametricDAY
DESCRIPTION:Â info:http://mcarchitetture.blogspot.it/p/blog-page_3.htm
 l\nSINTESIÂ \nparametricartÂ eÂ il PEDONEÂ [officine di architettura],
  sono lieti di invitare tutti gli interessati all'openDAY|parametricDA
 Y. Questa giornataÂ inaugurale sarÃ  dedicata allaÂ free-lectureÂ intr
 oduttiva finalizzata alla realizzazione di un modello d'architettura c
 omplesso attraverso l'utilizzo di comandi e tecniche avanzate di rappr
 esentazione conÂ GrasshopperÂ (plug-in parametrica di Rhinoceros) eÂ 3
 dsMax. SarÃ  illustrato inoltre il potenziale diÂ V-ray per 3dsMaxÂ re
 alizzando un rendering concettuale.  Durante il mini-corso dell' openD
 AY verranno mostrate le caratteristiche e le potenzialitÃ  degli strum
 enti Â per far luce sui nuovi valori assunti dalla modellazione 3D. La
  modellazione 3DÂ sta interessando un pubblico sempre piÃ¹ vasto inser
 endosi in una nuova fase di ampia disponibilitÃ  per conoscenze, softw
 are, hardware di prototipazione e modelli. Pur mantenendo tutti i suoi
  valori giÃ  noti la questione si Ã¨ talmente ampliata fino ad interes
 sare Â norme giuridiche (diritti sui modelli ,concorrenza con offerte 
 di servizi apparentemente simili, informazioni deformate e onfusione n
 ei media)  Makers University[http://www.makersuniversity.com], in coll
 aborazione conÂ parametricart, vi propone un punto di vista ampio e si
 ntetico su queste tematiche.\nAl termine della free-lecture, sarÃ  ill
 ustrata l'offerta formativa Â [CLICCA QUI] diÂ parametricartÂ riferita
  ai corsi Â che si Â terranno nei mesi di Gennaio e Febbraio 2013 inse
 riti Â all'interno della piÃ¹ ampia programmazione dellaÂ Makers Unive
 rsity.  SONO PREVISTE TARIFFE PROMOZIONALI PER COLORO CHE SI ISCRIVERA
 NNO AI CORSIÂ durante l'OpenDAY.\n La lezione e la presentazione si te
 rranno nel nuovo spazio co-working il PEDONE.\nÂ \nPROGRAMMAZIONE\n- Â
  I temi dellaÂ Makers UniversityÂ [Leo Sorge];\n-Â Modellazione dellaÂ
  parametricTowerÂ (concept di architettura complessa) utilizzandoÂ Gra
 sshopper, applicativo per la modellazione parametrica [VIDEO] [Michele
  Calvano];\n- Modellazione di una copertura reticolare 3D a completame
 nto dellaÂ parametricTowerÂ conÂ 3dsMaxÂ utilizzando tecniche di model
 lazione mesh complesse [Wissam Wahbeh];\n- Rendering conÂ V-ray per 3d
 sMaxÂ illustrando la nuova interfaccia nodaleÂ [Wissam Wahbeh].\n- Que
 stion Time per chiarimenti sugli argomenti illustrati.\nCOME\nÂ \nL'op
 enDAY sarÃ  aperto a tutti gli interessati,completamente gratuitoÂ eÂ 
 sarÃ  replicato in tre sessioni di uguali contenuti organizzate nei se
 guenti orari:\nSessione [1]Â Â 11,30 - 13,30\nSessione [2]Â Â 15,30 - 
 17,30\nSessione [3]Â Â 17,30 - 19,30\nPer necessitÃ  di organizzazione
  Ã¨ importante la prenotazione all'evento utilizzando il form in fondo
  alla pagina specificando nella stringa apposita, il nome dell'evento 
 e la sessione (es.Â open day sessione 1) oltre agli altri dati richies
 ti.\n\nFor more information visit https://www.grasshopper3d.com/events
 /openday-parametricday
DTSTART;TZID=America/Boise:20130114T113000
DTEND;TZID=America/Boise:20130114T193000
CATEGORIES:openday-giornata, inaugurale, calendario, didattico, 2013, 
 parametricart
LOCATION:Roma
WEBSITE:http://mcarchitetture.blogspot.it/p/blog-page_3.html
URL:http://mcarchitetture.blogspot.it/p/blog-page_3.html
CONTACT:3403476330
ORGANIZER;CN="Francesca Guadagnoli":https://www.grasshopper3d.com/prof
 ile/FrancescaGuadagnoli
ATTACH;FMTTYPE="image/jpeg":http://storage.ning.com/topology/rest/1.0/
 file/get/2828177035?profile=original
ATTENDEE;ROLE=REQ-PARTICIPANT;PARTSTAT=ACCEPTED;RSVP=TRUE;CN="Francesc
 a Guadagnoli":https://www.grasshopper3d.com/profile/FrancescaGuadagnol
 i
END:VEVENT
END:VCALENDAR
