BEGIN:VCALENDAR
PRODID:NingEventWidget-v1
VERSION:2.0
METHOD:PUBLISH
BEGIN:VTIMEZONE
TZID:America/Boise
X-LIC-LOCATION:America/Boise
BEGIN:DAYLIGHT
TZOFFSETFROM:-0700
TZOFFSETTO:-0600
TZNAME:MDT
DTSTART:19700308T020000
RRULE:FREQ=YEARLY;BYMONTH=3;BYDAY=2SU
END:DAYLIGHT
BEGIN:STANDARD
TZOFFSETFROM:-0600
TZOFFSETTO:-0700
TZNAME:MST
DTSTART:19701101T020000
RRULE:FREQ=YEARLY;BYMONTH=11;BYDAY=1SU
END:STANDARD
END:VTIMEZONE
BEGIN:VEVENT
UID:2985220:Event:154582
DTSTAMP:20260421T093643Z
SUMMARY:NUS McNeel Rhinoceros & Grasshopper Workshop
DESCRIPTION:Rhino & Grasshopper 2-day Workshop\nis held in conjunction
  with NUS Design Fabrication Exhibition: Form follows Performance.\n\n
 Venue:\nDigital Design Lab 2-1, SDE3 Level 2,\nDepartment of Architect
 ure, National University of Singapore.\n\n\nAn introduction workshop f
 or Rhinoceros 3D and Grasshopper Generative Modeling for Rhino for arc
 hitectural practices. Workshop goal is to provide basic functional und
 erstanding of both Rhinoceros 3D and Grasshopper, to enable participa
 nts to build own definitions, and understands existing definitions. \
 n\n\nGrasshopper is a Work-in-Progress. Features and procedures are ad
 ded/changed often. If you are bringing your own laptop, please update 
 to Rhino version 4 service release 8 and Grasshopper version 0.8.0004
  which will be use in the workshop.\n\nIf you are not sure of your cur
 rent update, please email to Agnes (agnes.tan@mcneel.com) for assistan
 ce.\n\nSpeaker: Agnes Tan agnes.tan@mcneel.com\nContact Person: Pingl
 ei ping_lei@nus.edu.sg\n\nCampus map: http://www.nus.edu.sg/campusma
 p/\n\n\nSeats Limited.\nRegistration fee: S$250.00 each person\nMode o
 f payment: Cash or Cash cheque\n\n\n*Please note exhibition and worksh
 op venues are in different locations.\n\n\nFor more information visit 
 https://www.grasshopper3d.com/events/nus-mcneel-rhinoceros
DTSTART;TZID=America/Boise:20110226T000000
DTEND;TZID=America/Boise:20110227T235900
CATEGORIES:workshop
LOCATION:Department of Architecture, National University of Singapore
WEBSITE:http://maps.google.com.my/maps?hl=en&biw=1366&bih=639&um=1&ie=
 UTF-8&q=department+of+architecture+national+university+of+singapore&fb
 =1&gl=my&hq=department+of+architecture+national+university+of&hnear=Si
 ngapore&cid=0,0,1689782302242894827&ei=DEVGTZDUAsPoOa
URL:http://maps.google.com.my/maps?hl=en&biw=1366&bih=639&um=1&ie=UTF-
 8&q=department+of+architecture+national+university+of+singapore&fb=1&g
 l=my&hq=department+of+architecture+national+university+of&hnear=Singap
 ore&cid=0,0,1689782302242894827&ei=DEVGTZDUAsPoOa
CONTACT:
ORGANIZER:Department of Architecture, National University of Singapore
ATTACH;FMTTYPE="image/jpeg":http://storage.ning.com/topology/rest/1.0/
 file/get/2827758195?profile=original
ATTENDEE;ROLE=REQ-PARTICIPANT;PARTSTAT=ACCEPTED;RSVP=TRUE;CN="Agnes Ta
 n":https://www.grasshopper3d.com/profile/AgnesTan
END:VEVENT
END:VCALENDAR
