BEGIN:VCALENDAR
PRODID:NingEventWidget-v1
VERSION:2.0
METHOD:PUBLISH
BEGIN:VTIMEZONE
TZID:America/Boise
X-LIC-LOCATION:America/Boise
BEGIN:DAYLIGHT
TZOFFSETFROM:-0700
TZOFFSETTO:-0600
TZNAME:MDT
DTSTART:19700308T020000
RRULE:FREQ=YEARLY;BYMONTH=3;BYDAY=2SU
END:DAYLIGHT
BEGIN:STANDARD
TZOFFSETFROM:-0600
TZOFFSETTO:-0700
TZNAME:MST
DTSTART:19701101T020000
RRULE:FREQ=YEARLY;BYMONTH=11;BYDAY=1SU
END:STANDARD
END:VTIMEZONE
BEGIN:VEVENT
UID:2985220:Event:508500
DTSTAMP:20260424T180250Z
SUMMARY:New Paradigm and Graphics Technology in Design Industry
DESCRIPTION:It's the second generative modeling seminar in Indonesia, 
 presented by Sentra Grafika Kompumedia PT.\n\nContinuing from the firs
 t event a while ago, this event is supported by Hewlett Packard and AM
 D, delivering their latest workstation and graphics technology.\n\nInt
 ensive computing and exceptional graphics technology will deliver gene
 rative modeling and computing to its next level.\n\nParticipants will 
 learn the ease of use of Grasshopper within Rhinoceros, so they could 
 start creating their own generative design.\n\nWho should attend:\n1. 
 Professionals in design and engineering industry who would like to gai
 n more knowledge and productivity\n2. Students who would like to exten
 d their knowledge to the next level\n3. Supporting IT who would like t
 o provide even more efficient tools for engineers and designers\n4. En
 gineering and Design Enthusiasts\n\nParticipants should send an email 
 to fani@m3kom.co.id, to receive an invitation and its detail.\n\nFor f
 urther technical information about the event, feel free to ask Rendy (
 tihe.tihe@gmail.com).\n\nThis event will consist of the sneak preview 
 of most anticipated real-time rendering for Rhinoceros: V-Ray RT for R
 hino.\n\nHopefully, this will also initiate the establishment of Indon
 esia's generative modeling designers community in Indonesia.\n\nFor mo
 re information visit https://www.grasshopper3d.com/events/new-paradigm
 -and-graphics-technology-in-design-industry
DTSTART;TZID=America/Boise:20120126T090000
DTEND;TZID=America/Boise:20120126T160000
CATEGORIES:"hands on workshop"
LOCATION:Aston Primera Pasteur Hotel, Meridien I Room
WEBSITE:
URL:
CONTACT:
ORGANIZER:M3KOM (fani@m3kom.co.id), Rendy Perdana Khidmat (tihe.tihe@g
 mail.com)
ATTACH;FMTTYPE="image/jpeg":
ATTENDEE;ROLE=REQ-PARTICIPANT;PARTSTAT=ACCEPTED;RSVP=TRUE;CN="Bimo Adi
  Prakoso":https://www.grasshopper3d.com/profile/BimoAdiPrakoso
ATTENDEE;ROLE=REQ-PARTICIPANT;PARTSTAT=TENTATIVE;RSVP=TRUE;CN=bengID:h
 ttps://www.grasshopper3d.com/profile/bengID
END:VEVENT
END:VCALENDAR
