BEGIN:VCALENDAR
PRODID:NingEventWidget-v1
VERSION:2.0
METHOD:PUBLISH
BEGIN:VTIMEZONE
TZID:America/Boise
X-LIC-LOCATION:America/Boise
BEGIN:DAYLIGHT
TZOFFSETFROM:-0700
TZOFFSETTO:-0600
TZNAME:MDT
DTSTART:19700308T020000
RRULE:FREQ=YEARLY;BYMONTH=3;BYDAY=2SU
END:DAYLIGHT
BEGIN:STANDARD
TZOFFSETFROM:-0600
TZOFFSETTO:-0700
TZNAME:MST
DTSTART:19701101T020000
RRULE:FREQ=YEARLY;BYMONTH=11;BYDAY=1SU
END:STANDARD
END:VTIMEZONE
BEGIN:VEVENT
UID:2985220:Event:159929
DTSTAMP:20260421T112704Z
SUMMARY:Moltitudine - Power of the many _ GH advanced workshop
DESCRIPTION:\n\nParametric Strategies workshop series\nMoltitudine –
  Power of the many _ Grasshopper Advanced workshop\nFirenze _ 25-27 fe
 bbraio 2011\nTutors: Alessio Erioli + Andrea Graziano\n[.] Descrizione
 \nMoltitudine – power of the many è un corso advanced level che stu
 dia la produzione di effetti complessi a partire dalla modellazione di
  comportamenti semplici su un insieme strutturato con un numero alto d
 i elementi. Attraverso un approccio generico e scaleless sarà possibi
 le affrontare la tematica generale su più fronti e in una molteplicit
 à di declinazioni possibili. Il corso è rivolto a chi,indipendenteme
 nte dal proprio background (urbanistica, architettura, ingegneria, des
 ign, arte o altro) già possiede una esperienza di base con Rhinoceros
  e Grasshopper, e desidera sviluppare aspetti di gestione avanzata del
  flusso di articolato di informazioni attraverso una strategia guidata
  basata su esempi pratici e sull’implementazione di un progetto pers
 onale sul tema generale del “field behaviour”. Sarà trattato anch
 e l’utilizzo di alcuni plug-ins quali gHowl e WeaverBird. Il numero 
 dei partecipanti è fissato a un massimo di 20 per offrire un tutoragg
 io proficuo ed una effettiva esperienza di learning ad ogni iscritto.\
 n[.] Temi:\nteoria\n. complessità, emergence, effetti di campo (field
  behaviour), sensibilità, efficienza multiperformance\ntecnica\n. dat
 i:gestione e manipolazione avanzata del data tree, streaming e visuali
 zzazione; transizione, blending e modulazione delle geometrie; generaz
 ione e controllo multiperformance di popolazioni di componenti; attrat
 tori, drivers e tecniche di modulazione avanzate; uso delle mesh con W
 eaverBird;  ottimizzazione con Galapagos\n[.] Dettagli :\nTutors: Ale
 ssio Erioli + Andrea Graziano – Co-de-iT\nSi richiede esperienza di 
 base nella modellazione in Rhino (equivalente a Rhino training Level 1
 , il Level 2 è gradito – la documentazione per il training è dispo
 nibile gratuitamente all’indirizzo: http://download.rhino3d.com/down
 load.asp?id=Rhino4Training&language=it) e nell’uso di Grasshopper (l
 a suddivisione di una superficie NURBS in componenti tramite isotrim 
  data come base assodata)\n. luogo:\nIreCoop – via Vasco De Gama 27
  _ Firenze\n. durata:\n25-27 febbraio 2010 – 3 giornate consecutive 
 _ orario 9:00 – 18:00\n. costo:\nprofessionisti – 450.00 € stude
 nti – 280.00 €\n. note:\nscadenza iscrizioni: 20 febbraio 2010 il 
 corso sarà attivato con un numero minimo di 15 iscritti al termine sa
 rà rilasciato un attestato di frequenza gli iscritti dovrano venire m
 uniti dei propri laptop con software installato. una versione free per
  30 giorni è disponibile sul sito www.rhino3d.com\n. contatti:\niscri
 zioni + info alloggi: www.irecooptoscana.it (Cosa offriamo > formazion
 e > altri corsi)\ninfo sul corso:      info@co-de-it.com\n\nFor m
 ore information visit https://www.grasshopper3d.com/events/moltitudine
 -power-of-the-many
DTSTART;TZID=America/Boise:20110225T000000
DTEND;TZID=America/Boise:20110227T235900
CATEGORIES:workshop
LOCATION:Irecoop
WEBSITE:http://www.co-de-it.com/wordpress/moltitudine-gh-workshop-fire
 nze.html
URL:http://www.co-de-it.com/wordpress/moltitudine-gh-workshop-firenze.
 html
CONTACT:
ORGANIZER:Co-de-iT
ATTACH;FMTTYPE="image/jpeg":http://storage.ning.com/topology/rest/1.0/
 file/get/2827760140?profile=original
ATTENDEE;ROLE=REQ-PARTICIPANT;PARTSTAT=ACCEPTED;RSVP=TRUE;CN="Daniele 
 Campanozzi":https://www.grasshopper3d.com/profile/DanieleCampanozzi
ATTENDEE;ROLE=REQ-PARTICIPANT;PARTSTAT=ACCEPTED;RSVP=TRUE;CN="Giulio P
 iacentino":https://www.grasshopper3d.com/profile/GiulioPiacentino
ATTENDEE;ROLE=REQ-PARTICIPANT;PARTSTAT=ACCEPTED;RSVP=TRUE;CN="Andrea G
 raziano":https://www.grasshopper3d.com/profile/AndreaGraziano
ATTENDEE;ROLE=REQ-PARTICIPANT;PARTSTAT=ACCEPTED;RSVP=TRUE;CN="Alessio 
 Erioli":https://www.grasshopper3d.com/profile/Ale2x72
ATTENDEE;ROLE=REQ-PARTICIPANT;PARTSTAT=TENTATIVE;RSVP=TRUE;CN=tommy:ht
 tps://www.grasshopper3d.com/profile/tommy
END:VEVENT
END:VCALENDAR
