BEGIN:VCALENDAR
PRODID:NingEventWidget-v1
VERSION:2.0
METHOD:PUBLISH
BEGIN:VTIMEZONE
TZID:America/Boise
X-LIC-LOCATION:America/Boise
BEGIN:DAYLIGHT
TZOFFSETFROM:-0700
TZOFFSETTO:-0600
TZNAME:MDT
DTSTART:19700308T020000
RRULE:FREQ=YEARLY;BYMONTH=3;BYDAY=2SU
END:DAYLIGHT
BEGIN:STANDARD
TZOFFSETFROM:-0600
TZOFFSETTO:-0700
TZNAME:MST
DTSTART:19701101T020000
RRULE:FREQ=YEARLY;BYMONTH=11;BYDAY=1SU
END:STANDARD
END:VTIMEZONE
BEGIN:VEVENT
UID:2985220:Event:1001211
DTSTAMP:20260423T093359Z
SUMMARY:Module Grasshopper beginners
DESCRIPTION:Module Grasshopper beginners course is intended for archit
 ects and designers interested in expand Rhinoceros 3D modeling skills 
 using Grasshopper application that provides a visual programming envir
 onment.\nThis course will help architects and designers in their pract
 ice and development of forms using generative algorithms.\nCurriculum\
 n\nIntroduction to parametric design\nUnderstanding the user interface
  of Grasshopper and visual programming theory\nUnderstand the componen
 ts and types of networking\nLinking and importing and exporting geomet
 ry from Rhino Rhino geometry results back\nKnowledge of the main data 
 types (numbers, fields, vectors, points, curves, surfaces, brep)\nMana
 ge lists and trees of data: simple tasks lists, extracting data in lis
 ts and trees\nOperations with vectors and points\nUsing colored gradie
 nt according to the parameters\nStrategies of planar space subdivision
 : Voronoi\nWorking with curves and create surfaces : loft, surface fro
 m points, attractors\nSurface subdivision with Lunchbox: triangular, h
 ex, diagrid\n\nSchedule:\n\nModule Grasshopper beginners (24 h)\n\n10 
 May – 24 May 2014\n\n  Sat:\n \n\n9 - 13\n14 - 18\n\n\n\n\nLanguag
 e:  Romanian\nTrainers:\nIonuț Anton, idz arhitectura  (ART-Authori
 sed Rhino Trainer)\nDana Tănase, idz arhitectura  (ART-Authorised Rh
 ino Trainer)\nhttps://www.facebook.com/cursurigrasshopperrhinoceros\nh
 ttps://www.facebook.com/idzarhitectura\nhttp://www.idz.ro/training/\n\
 nFor more information visit https://www.grasshopper3d.com/events/modul
 e-grasshopper-beginners
DTSTART;TZID=America/Boise:20140510T090000
DTEND;TZID=America/Boise:20140524T180000
CATEGORIES:grasshopper
LOCATION:Bucharest, Romania
WEBSITE:
URL:
CONTACT:
ORGANIZER:idz arhitectura
ATTACH;FMTTYPE="image/jpeg":http://storage.ning.com/topology/rest/1.0/
 file/get/2828463864?profile=original
ATTENDEE;ROLE=REQ-PARTICIPANT;PARTSTAT=ACCEPTED;RSVP=TRUE;CN="Dana Tan
 ase":https://www.grasshopper3d.com/profile/DanaTanase
END:VEVENT
END:VCALENDAR
