BEGIN:VCALENDAR
PRODID:NingEventWidget-v1
VERSION:2.0
METHOD:PUBLISH
BEGIN:VTIMEZONE
TZID:America/Boise
X-LIC-LOCATION:America/Boise
BEGIN:DAYLIGHT
TZOFFSETFROM:-0700
TZOFFSETTO:-0600
TZNAME:MDT
DTSTART:19700308T020000
RRULE:FREQ=YEARLY;BYMONTH=3;BYDAY=2SU
END:DAYLIGHT
BEGIN:STANDARD
TZOFFSETFROM:-0600
TZOFFSETTO:-0700
TZNAME:MST
DTSTART:19701101T020000
RRULE:FREQ=YEARLY;BYMONTH=11;BYDAY=1SU
END:STANDARD
END:VTIMEZONE
BEGIN:VEVENT
UID:2985220:Event:2262850
DTSTAMP:20260422T000621Z
SUMMARY:DOMESTIKA course: MODELING 3D PATTERNS WITH RHINO AND GRASSHOP
 PER
DESCRIPTION:\n\nModeling 3D Patterns with Rhino Grasshopper\nwith Artu
 ro Tedeschi\n\nthe first Domestika course on Grasshopper  link here: h
 ttps://www.domestika.org/it/courses/4399-modellazione-di-pattern-3d-co
 n-rhino-grasshopper/arturotedeschi\n Discounted promo until October 4t
 h.\n\n\n\nFor more information visit https://www.grasshopper3d.com/eve
 nts/modeling-3d-patterns-with-rhino-grasshopper-domestika-course
DTSTART;TZID=America/Boise:20220930T000000
DTEND;TZID=America/Boise:20230928T235900
CATEGORIES:online, course
LOCATION:worldwide
WEBSITE:https://www.domestika.org/it/courses/4399-modellazione-di-patt
 ern-3d-con-rhino-grasshopper/arturotedeschi
URL:https://www.domestika.org/it/courses/4399-modellazione-di-pattern-
 3d-con-rhino-grasshopper/arturotedeschi
CONTACT:
ORGANIZER:Domestika with Arturo Tedeschi
ATTACH;FMTTYPE="image/jpeg":https://storage.ning.com/topology/rest/1.0
 /file/get/10831605096?profile=original
ATTENDEE;ROLE=REQ-PARTICIPANT;PARTSTAT=ACCEPTED;RSVP=TRUE;CN="Tony Sta
 rk":https://www.grasshopper3d.com/profile/TonyStark
ATTENDEE;ROLE=REQ-PARTICIPANT;PARTSTAT=ACCEPTED;RSVP=TRUE;CN="Arturo T
 edeschi":https://www.grasshopper3d.com/profile/ArturoTedeschi
END:VEVENT
END:VCALENDAR
