BEGIN:VCALENDAR
PRODID:NingEventWidget-v1
VERSION:2.0
METHOD:PUBLISH
BEGIN:VTIMEZONE
TZID:America/Boise
X-LIC-LOCATION:America/Boise
BEGIN:DAYLIGHT
TZOFFSETFROM:-0700
TZOFFSETTO:-0600
TZNAME:MDT
DTSTART:19700308T020000
RRULE:FREQ=YEARLY;BYMONTH=3;BYDAY=2SU
END:DAYLIGHT
BEGIN:STANDARD
TZOFFSETFROM:-0600
TZOFFSETTO:-0700
TZNAME:MST
DTSTART:19701101T020000
RRULE:FREQ=YEARLY;BYMONTH=11;BYDAY=1SU
END:STANDARD
END:VTIMEZONE
BEGIN:VEVENT
UID:2985220:Event:2109651
DTSTAMP:20260422T052728Z
SUMMARY:MIAUCADEMY
DESCRIPTION:Postgraduate Program in Advanced Infoarchitecture at UPM. 
 A professional program at the convergence of technology, architecture,
  art, and design.\nThe MIAUCADEMY @Offmiau (offmiau.com) is the quick
  shot of MIAU @miauhaus_org (miauhaus.org) Intensive Academic Progra
 ms for you to specialize in computational design dime@offmiau.com\n\n\
 n\nFor more information visit https://www.grasshopper3d.com/events/mia
 ucademy
DTSTART;TZID=America/Boise:20201015T000000
DTEND;TZID=America/Boise:20211015T235900
CATEGORIES:academic, programs, 20h, and, masters
LOCATION:UPM Madrid, Spain. ONLINE
WEBSITE:http://miauhaus.org
URL:http://miauhaus.org
CONTACT:+34616295933
ORGANIZER;CN="Doctor No":https://www.grasshopper3d.com/profile/DrNo
ATTACH;FMTTYPE="image/jpeg":https://storage.ning.com/topology/rest/1.0
 /file/get/8037886852?profile=original
ATTENDEE;ROLE=REQ-PARTICIPANT;PARTSTAT=ACCEPTED;RSVP=TRUE;CN="Alicia S
 anders":https://www.grasshopper3d.com/profile/AliciaSanders
ATTENDEE;ROLE=REQ-PARTICIPANT;PARTSTAT=ACCEPTED;RSVP=TRUE;CN=IAM:https
 ://www.grasshopper3d.com/profile/IAM
ATTENDEE;ROLE=REQ-PARTICIPANT;PARTSTAT=ACCEPTED;RSVP=TRUE;CN=SarahBrun
 ning:https://www.grasshopper3d.com/profile/SarahBrunning
ATTENDEE;ROLE=REQ-PARTICIPANT;PARTSTAT=ACCEPTED;RSVP=TRUE;CN="Doctor N
 o":https://www.grasshopper3d.com/profile/DrNo
END:VEVENT
END:VCALENDAR
